BEGIN:VCALENDAR
VERSION:2.0
PRODID:-//Laboratoire de théorie du droit - ECPv6.15.17//NONSGML v1.0//EN
CALSCALE:GREGORIAN
METHOD:PUBLISH
X-ORIGINAL-URL:https://ltd.univ-amu.fr
X-WR-CALDESC:Évènements pour Laboratoire de théorie du droit
REFRESH-INTERVAL;VALUE=DURATION:PT1H
X-Robots-Tag:noindex
X-PUBLISHED-TTL:PT1H
BEGIN:VTIMEZONE
TZID:Europe/Paris
BEGIN:DAYLIGHT
TZOFFSETFROM:+0100
TZOFFSETTO:+0200
TZNAME:CEST
DTSTART:20240331T010000
END:DAYLIGHT
BEGIN:STANDARD
TZOFFSETFROM:+0200
TZOFFSETTO:+0100
TZNAME:CET
DTSTART:20241027T010000
END:STANDARD
BEGIN:DAYLIGHT
TZOFFSETFROM:+0100
TZOFFSETTO:+0200
TZNAME:CEST
DTSTART:20250330T010000
END:DAYLIGHT
BEGIN:STANDARD
TZOFFSETFROM:+0200
TZOFFSETTO:+0100
TZNAME:CET
DTSTART:20251026T010000
END:STANDARD
BEGIN:DAYLIGHT
TZOFFSETFROM:+0100
TZOFFSETTO:+0200
TZNAME:CEST
DTSTART:20260329T010000
END:DAYLIGHT
BEGIN:STANDARD
TZOFFSETFROM:+0200
TZOFFSETTO:+0100
TZNAME:CET
DTSTART:20261025T010000
END:STANDARD
END:VTIMEZONE
BEGIN:VEVENT
DTSTART;TZID=Europe/Paris:20250314T090000
DTEND;TZID=Europe/Paris:20250314T130000
DTSTAMP:20260423T120142
CREATED:20241127T133358Z
LAST-MODIFIED:20250303T144304Z
UID:5381-1741942800-1741957200@ltd.univ-amu.fr
SUMMARY:Sciences sociales et droit - Pr. R. Ponsard - 09h/13h - salle 0.25
DESCRIPTION:
URL:https://ltd.univ-amu.fr/event/sciences-sociales-et-droit-pr-r-ponsard-09h-13h-salle/
CATEGORIES:Agenda
END:VEVENT
BEGIN:VEVENT
DTSTART;TZID=Europe/Paris:20250314T143000
DTEND;TZID=Europe/Paris:20250314T180000
DTSTAMP:20260423T120142
CREATED:20241127T133332Z
LAST-MODIFIED:20250303T144314Z
UID:5379-1741962600-1741975200@ltd.univ-amu.fr
SUMMARY:Sciences sociales et droit - Pr. R. Ponsard - 14h30/18h - salle 0.25
DESCRIPTION:
URL:https://ltd.univ-amu.fr/event/sciences-sociales-et-droit-pr-r-ponsard-17h-20h-salle/
CATEGORIES:Agenda
END:VEVENT
END:VCALENDAR