BEGIN:VCALENDAR
VERSION:2.0
PRODID:-//Laboratoire de théorie du droit - ECPv6.15.17//NONSGML v1.0//EN
CALSCALE:GREGORIAN
METHOD:PUBLISH
X-ORIGINAL-URL:https://ltd.univ-amu.fr
X-WR-CALDESC:Évènements pour Laboratoire de théorie du droit
REFRESH-INTERVAL;VALUE=DURATION:PT1H
X-Robots-Tag:noindex
X-PUBLISHED-TTL:PT1H
BEGIN:VTIMEZONE
TZID:Europe/Paris
BEGIN:DAYLIGHT
TZOFFSETFROM:+0100
TZOFFSETTO:+0200
TZNAME:CEST
DTSTART:20240331T010000
END:DAYLIGHT
BEGIN:STANDARD
TZOFFSETFROM:+0200
TZOFFSETTO:+0100
TZNAME:CET
DTSTART:20241027T010000
END:STANDARD
BEGIN:DAYLIGHT
TZOFFSETFROM:+0100
TZOFFSETTO:+0200
TZNAME:CEST
DTSTART:20250330T010000
END:DAYLIGHT
BEGIN:STANDARD
TZOFFSETFROM:+0200
TZOFFSETTO:+0100
TZNAME:CET
DTSTART:20251026T010000
END:STANDARD
BEGIN:DAYLIGHT
TZOFFSETFROM:+0100
TZOFFSETTO:+0200
TZNAME:CEST
DTSTART:20260329T010000
END:DAYLIGHT
BEGIN:STANDARD
TZOFFSETFROM:+0200
TZOFFSETTO:+0100
TZNAME:CET
DTSTART:20261025T010000
END:STANDARD
END:VTIMEZONE
BEGIN:VEVENT
DTSTART;TZID=Europe/Paris:20250311T140000
DTEND;TZID=Europe/Paris:20250311T160000
DTSTAMP:20260423T130343
CREATED:20250203T135121Z
LAST-MODIFIED:20250203T135121Z
UID:5435-1741701600-1741708800@ltd.univ-amu.fr
SUMMARY:Ecriture du mémoire_ Pr Frédéric Rouvière_ 14h-16h_ salle 102
DESCRIPTION:
URL:https://ltd.univ-amu.fr/event/ecriture-du-memoire_-pr-frederic-rouviere_-14h-16h_-salle-102/
CATEGORIES:Agenda
END:VEVENT
END:VCALENDAR