BEGIN:VCALENDAR
VERSION:2.0
PRODID:-//Laboratoire de théorie du droit - ECPv6.15.17//NONSGML v1.0//EN
CALSCALE:GREGORIAN
METHOD:PUBLISH
X-WR-CALNAME:Laboratoire de théorie du droit
X-ORIGINAL-URL:https://ltd.univ-amu.fr
X-WR-CALDESC:Évènements pour Laboratoire de théorie du droit
REFRESH-INTERVAL;VALUE=DURATION:PT1H
X-Robots-Tag:noindex
X-PUBLISHED-TTL:PT1H
BEGIN:VTIMEZONE
TZID:Europe/Paris
BEGIN:DAYLIGHT
TZOFFSETFROM:+0100
TZOFFSETTO:+0200
TZNAME:CEST
DTSTART:20240331T010000
END:DAYLIGHT
BEGIN:STANDARD
TZOFFSETFROM:+0200
TZOFFSETTO:+0100
TZNAME:CET
DTSTART:20241027T010000
END:STANDARD
BEGIN:DAYLIGHT
TZOFFSETFROM:+0100
TZOFFSETTO:+0200
TZNAME:CEST
DTSTART:20250330T010000
END:DAYLIGHT
BEGIN:STANDARD
TZOFFSETFROM:+0200
TZOFFSETTO:+0100
TZNAME:CET
DTSTART:20251026T010000
END:STANDARD
BEGIN:DAYLIGHT
TZOFFSETFROM:+0100
TZOFFSETTO:+0200
TZNAME:CEST
DTSTART:20260329T010000
END:DAYLIGHT
BEGIN:STANDARD
TZOFFSETFROM:+0200
TZOFFSETTO:+0100
TZNAME:CET
DTSTART:20261025T010000
END:STANDARD
END:VTIMEZONE
BEGIN:VEVENT
DTSTART;TZID=Europe/Paris:20250107T140000
DTEND;TZID=Europe/Paris:20250107T160000
DTSTAMP:20260423T164432
CREATED:20240709T082856Z
LAST-MODIFIED:20250107T101655Z
UID:4973-1736258400-1736265600@ltd.univ-amu.fr
SUMMARY:Dissertation\, synthèse et culture d'un monde contemporain_Pr F.Rouvière_14h00-16h00_  bibliothèque LTD
DESCRIPTION:
URL:https://ltd.univ-amu.fr/event/dissertation-synthese-et-culture-dun-monde-contemporain_pr-f-rouviere_14h00-16h00_-salle-5/
CATEGORIES:Agenda
END:VEVENT
BEGIN:VEVENT
DTSTART;TZID=Europe/Paris:20250107T160000
DTEND;TZID=Europe/Paris:20250107T180000
DTSTAMP:20260423T164432
CREATED:20241211T133701Z
LAST-MODIFIED:20250107T070032Z
UID:5392-1736265600-1736272800@ltd.univ-amu.fr
SUMMARY:Séminaire : "Introduction à la pensée de Ronald Dworkin"_MCF M.Cottereau_16h00-18h00_Salle 0.28
DESCRIPTION:
URL:https://ltd.univ-amu.fr/event/theories-et-philosophies-du-droit_mcf-m-cottereau_16h00-18h00_salle0-28/
CATEGORIES:Agenda
END:VEVENT
END:VCALENDAR