BEGIN:VCALENDAR
VERSION:2.0
PRODID:-//Laboratoire de théorie du droit - ECPv6.15.17//NONSGML v1.0//EN
CALSCALE:GREGORIAN
METHOD:PUBLISH
X-WR-CALNAME:Laboratoire de théorie du droit
X-ORIGINAL-URL:https://ltd.univ-amu.fr
X-WR-CALDESC:Évènements pour Laboratoire de théorie du droit
REFRESH-INTERVAL;VALUE=DURATION:PT1H
X-Robots-Tag:noindex
X-PUBLISHED-TTL:PT1H
BEGIN:VTIMEZONE
TZID:Europe/Paris
BEGIN:DAYLIGHT
TZOFFSETFROM:+0100
TZOFFSETTO:+0200
TZNAME:CEST
DTSTART:20230326T010000
END:DAYLIGHT
BEGIN:STANDARD
TZOFFSETFROM:+0200
TZOFFSETTO:+0100
TZNAME:CET
DTSTART:20231029T010000
END:STANDARD
BEGIN:DAYLIGHT
TZOFFSETFROM:+0100
TZOFFSETTO:+0200
TZNAME:CEST
DTSTART:20240331T010000
END:DAYLIGHT
BEGIN:STANDARD
TZOFFSETFROM:+0200
TZOFFSETTO:+0100
TZNAME:CET
DTSTART:20241027T010000
END:STANDARD
BEGIN:DAYLIGHT
TZOFFSETFROM:+0100
TZOFFSETTO:+0200
TZNAME:CEST
DTSTART:20250330T010000
END:DAYLIGHT
BEGIN:STANDARD
TZOFFSETFROM:+0200
TZOFFSETTO:+0100
TZNAME:CET
DTSTART:20251026T010000
END:STANDARD
END:VTIMEZONE
BEGIN:VEVENT
DTSTART;TZID=Europe/Paris:20240906T100000
DTEND;TZID=Europe/Paris:20240906T120000
DTSTAMP:20260424T052033
CREATED:20240904T062846Z
LAST-MODIFIED:20240904T062846Z
UID:5141-1725616800-1725624000@ltd.univ-amu.fr
SUMMARY:⚖️ FORMATION DOCTORALE:  Séminaires académiques vacataires/CME I. Méthodologie des exercices : Dissertation_ 10h-12h_ Fabre 5
DESCRIPTION:Ne concerne pas les étudiants du Master 2 Théorie du droit
URL:https://ltd.univ-amu.fr/event/%e2%9a%96%ef%b8%8f-formation-doctorale-seminaires-academiques-vacataires-cme-i-methodologie-des-exercices-dissertation_-10h-12h_-fabre-5/
CATEGORIES:Agenda
END:VEVENT
END:VCALENDAR