BEGIN:VCALENDAR
VERSION:2.0
PRODID:-//Laboratoire de théorie du droit - ECPv6.15.17//NONSGML v1.0//EN
CALSCALE:GREGORIAN
METHOD:PUBLISH
X-ORIGINAL-URL:https://ltd.univ-amu.fr
X-WR-CALDESC:Évènements pour Laboratoire de théorie du droit
REFRESH-INTERVAL;VALUE=DURATION:PT1H
X-Robots-Tag:noindex
X-PUBLISHED-TTL:PT1H
BEGIN:VTIMEZONE
TZID:Europe/Paris
BEGIN:DAYLIGHT
TZOFFSETFROM:+0100
TZOFFSETTO:+0200
TZNAME:CEST
DTSTART:20230326T010000
END:DAYLIGHT
BEGIN:STANDARD
TZOFFSETFROM:+0200
TZOFFSETTO:+0100
TZNAME:CET
DTSTART:20231029T010000
END:STANDARD
BEGIN:DAYLIGHT
TZOFFSETFROM:+0100
TZOFFSETTO:+0200
TZNAME:CEST
DTSTART:20240331T010000
END:DAYLIGHT
BEGIN:STANDARD
TZOFFSETFROM:+0200
TZOFFSETTO:+0100
TZNAME:CET
DTSTART:20241027T010000
END:STANDARD
BEGIN:DAYLIGHT
TZOFFSETFROM:+0100
TZOFFSETTO:+0200
TZNAME:CEST
DTSTART:20250330T010000
END:DAYLIGHT
BEGIN:STANDARD
TZOFFSETFROM:+0200
TZOFFSETTO:+0100
TZNAME:CET
DTSTART:20251026T010000
END:STANDARD
END:VTIMEZONE
BEGIN:VEVENT
DTSTART;TZID=Europe/Paris:20240904T100000
DTEND;TZID=Europe/Paris:20240904T120000
DTSTAMP:20260424T044603
CREATED:20240904T062505Z
LAST-MODIFIED:20240904T062931Z
UID:5135-1725444000-1725451200@ltd.univ-amu.fr
SUMMARY:⚖️ FORMATION DOCTORALE:  Séminaires académiques vacataires/CME I. Méthodologie des exercices : Argumentation I - raisonnement\, qualification et problème juridique_ 10h-12h_ Fabre 5
DESCRIPTION:Ne concerne pas les étudiants du Master 2 Théorie du droit
URL:https://ltd.univ-amu.fr/event/%e2%9a%96%ef%b8%8f-formation-doctorale-seminaires-academiques-vacataires-cme-i-methodologie-des-exercices-argumentation-i-raisonnement-qualification-et-probleme-juridique_-10h-12h_-fabre-5/
CATEGORIES:Agenda
END:VEVENT
BEGIN:VEVENT
DTSTART;TZID=Europe/Paris:20240904T140000
DTEND;TZID=Europe/Paris:20240904T170000
DTSTAMP:20260424T044603
CREATED:20240703T073552Z
LAST-MODIFIED:20240902T065356Z
UID:4886-1725458400-1725469200@ltd.univ-amu.fr
SUMMARY:Sociologie de la connaissance juridique- MCF O.Tholozan _ 14h00-17h00_Salle 1.12
DESCRIPTION:
URL:https://ltd.univ-amu.fr/event/sociologie-de-la-connaissance-juridique-mcf-o-tholozan-_-14h00-17h00_salle/
CATEGORIES:Agenda
END:VEVENT
END:VCALENDAR