BEGIN:VCALENDAR
VERSION:2.0
PRODID:-//Laboratoire de théorie du droit - ECPv6.15.17//NONSGML v1.0//EN
CALSCALE:GREGORIAN
METHOD:PUBLISH
X-ORIGINAL-URL:https://ltd.univ-amu.fr
X-WR-CALDESC:Évènements pour Laboratoire de théorie du droit
REFRESH-INTERVAL;VALUE=DURATION:PT1H
X-Robots-Tag:noindex
X-PUBLISHED-TTL:PT1H
BEGIN:VTIMEZONE
TZID:Europe/Paris
BEGIN:DAYLIGHT
TZOFFSETFROM:+0100
TZOFFSETTO:+0200
TZNAME:CEST
DTSTART:20220327T010000
END:DAYLIGHT
BEGIN:STANDARD
TZOFFSETFROM:+0200
TZOFFSETTO:+0100
TZNAME:CET
DTSTART:20221030T010000
END:STANDARD
BEGIN:DAYLIGHT
TZOFFSETFROM:+0100
TZOFFSETTO:+0200
TZNAME:CEST
DTSTART:20230326T010000
END:DAYLIGHT
BEGIN:STANDARD
TZOFFSETFROM:+0200
TZOFFSETTO:+0100
TZNAME:CET
DTSTART:20231029T010000
END:STANDARD
BEGIN:DAYLIGHT
TZOFFSETFROM:+0100
TZOFFSETTO:+0200
TZNAME:CEST
DTSTART:20240331T010000
END:DAYLIGHT
BEGIN:STANDARD
TZOFFSETFROM:+0200
TZOFFSETTO:+0100
TZNAME:CET
DTSTART:20241027T010000
END:STANDARD
END:VTIMEZONE
BEGIN:VEVENT
DTSTART;TZID=Europe/Paris:20231214T100000
DTEND;TZID=Europe/Paris:20231214T120000
DTSTAMP:20260424T175526
CREATED:20230830T122639Z
LAST-MODIFIED:20230830T122805Z
UID:3798-1702548000-1702555200@ltd.univ-amu.fr
SUMMARY:🔗 Série de Conférences " L'anthropologie et la justice en Chine"\, Pr N. Rouland_ 10h-12h_ salle bibliothèque LTD
DESCRIPTION:
URL:https://ltd.univ-amu.fr/event/%f0%9f%94%97-serie-de-conferences-pr-n-rouland_-10h-12h_-salle-bibliotheque-ltd-3/
CATEGORIES:Agenda
END:VEVENT
BEGIN:VEVENT
DTSTART;TZID=Europe/Paris:20231214T140000
DTEND;TZID=Europe/Paris:20231214T160000
DTSTAMP:20260424T175526
CREATED:20230829T073254Z
LAST-MODIFIED:20231106T142229Z
UID:3776-1702562400-1702569600@ltd.univ-amu.fr
SUMMARY:📗 Ontologie du droit - F.Rouvière\, PR AMU_ 14h - 16h_ Salle 0.29
DESCRIPTION:
URL:https://ltd.univ-amu.fr/event/%f0%9f%93%92-methodologie-du-grand-oral-f-rouviere-pr-amu_-14h-16h_-salle/
CATEGORIES:Agenda
END:VEVENT
END:VCALENDAR