BEGIN:VCALENDAR
VERSION:2.0
PRODID:-//Laboratoire de théorie du droit - ECPv6.15.17//NONSGML v1.0//EN
CALSCALE:GREGORIAN
METHOD:PUBLISH
X-ORIGINAL-URL:https://ltd.univ-amu.fr
X-WR-CALDESC:Évènements pour Laboratoire de théorie du droit
REFRESH-INTERVAL;VALUE=DURATION:PT1H
X-Robots-Tag:noindex
X-PUBLISHED-TTL:PT1H
BEGIN:VTIMEZONE
TZID:Europe/Paris
BEGIN:DAYLIGHT
TZOFFSETFROM:+0100
TZOFFSETTO:+0200
TZNAME:CEST
DTSTART:20220327T010000
END:DAYLIGHT
BEGIN:STANDARD
TZOFFSETFROM:+0200
TZOFFSETTO:+0100
TZNAME:CET
DTSTART:20221030T010000
END:STANDARD
BEGIN:DAYLIGHT
TZOFFSETFROM:+0100
TZOFFSETTO:+0200
TZNAME:CEST
DTSTART:20230326T010000
END:DAYLIGHT
BEGIN:STANDARD
TZOFFSETFROM:+0200
TZOFFSETTO:+0100
TZNAME:CET
DTSTART:20231029T010000
END:STANDARD
BEGIN:DAYLIGHT
TZOFFSETFROM:+0100
TZOFFSETTO:+0200
TZNAME:CEST
DTSTART:20240331T010000
END:DAYLIGHT
BEGIN:STANDARD
TZOFFSETFROM:+0200
TZOFFSETTO:+0100
TZNAME:CET
DTSTART:20241027T010000
END:STANDARD
END:VTIMEZONE
BEGIN:VEVENT
DTSTART;TZID=Europe/Paris:20231207T100000
DTEND;TZID=Europe/Paris:20231207T120000
DTSTAMP:20260424T185447
CREATED:20230615T122744Z
LAST-MODIFIED:20231120T134908Z
UID:3697-1701943200-1701950400@ltd.univ-amu.fr
SUMMARY:📘 Philosophie politique et juridique - C. Lemaitre\, MCF AMU_ 10h - 12h_ Salle 0.36
DESCRIPTION:
URL:https://ltd.univ-amu.fr/event/%f0%9f%93%98-philosophie-politique-et-juridique-c-lemaitre-mcf-amu_-13h-15h_-salle-3/
CATEGORIES:Agenda
END:VEVENT
BEGIN:VEVENT
DTSTART;TZID=Europe/Paris:20231207T140000
DTEND;TZID=Europe/Paris:20231207T160000
DTSTAMP:20260424T185447
CREATED:20230829T074255Z
LAST-MODIFIED:20231206T073702Z
UID:3779-1701957600-1701964800@ltd.univ-amu.fr
SUMMARY:Séminaire du Pr Clotilde Aubry de Maromont_ 14h - 16h_ Salle BRY
DESCRIPTION:
URL:https://ltd.univ-amu.fr/event/%f0%9f%93%92-methodologie-du-grand-oral-f-rouviere-pr-amu_-14h-16h_-salle-2/
CATEGORIES:Agenda
END:VEVENT
END:VCALENDAR