BEGIN:VCALENDAR
VERSION:2.0
PRODID:-//Laboratoire de théorie du droit - ECPv6.15.17//NONSGML v1.0//EN
CALSCALE:GREGORIAN
METHOD:PUBLISH
X-ORIGINAL-URL:https://ltd.univ-amu.fr
X-WR-CALDESC:Évènements pour Laboratoire de théorie du droit
REFRESH-INTERVAL;VALUE=DURATION:PT1H
X-Robots-Tag:noindex
X-PUBLISHED-TTL:PT1H
BEGIN:VTIMEZONE
TZID:Europe/Paris
BEGIN:DAYLIGHT
TZOFFSETFROM:+0100
TZOFFSETTO:+0200
TZNAME:CEST
DTSTART:20240331T010000
END:DAYLIGHT
BEGIN:STANDARD
TZOFFSETFROM:+0200
TZOFFSETTO:+0100
TZNAME:CET
DTSTART:20241027T010000
END:STANDARD
BEGIN:DAYLIGHT
TZOFFSETFROM:+0100
TZOFFSETTO:+0200
TZNAME:CEST
DTSTART:20250330T010000
END:DAYLIGHT
BEGIN:STANDARD
TZOFFSETFROM:+0200
TZOFFSETTO:+0100
TZNAME:CET
DTSTART:20251026T010000
END:STANDARD
BEGIN:DAYLIGHT
TZOFFSETFROM:+0100
TZOFFSETTO:+0200
TZNAME:CEST
DTSTART:20260329T010000
END:DAYLIGHT
BEGIN:STANDARD
TZOFFSETFROM:+0200
TZOFFSETTO:+0100
TZNAME:CET
DTSTART:20261025T010000
END:STANDARD
END:VTIMEZONE
BEGIN:VEVENT
DTSTART;TZID=Europe/Paris:20250304T140000
DTEND;TZID=Europe/Paris:20250304T160000
DTSTAMP:20260423T101904
CREATED:20250203T135055Z
LAST-MODIFIED:20250203T135055Z
UID:5433-1741096800-1741104000@ltd.univ-amu.fr
SUMMARY:Ecriture du mémoire_ Pr Frédéric Rouvière_ 14h-16h_ salle 0.31
DESCRIPTION:
URL:https://ltd.univ-amu.fr/event/ecriture-du-memoire_-pr-frederic-rouviere_-14h-16h_-salle-0-31/
CATEGORIES:Agenda
END:VEVENT
BEGIN:VEVENT
DTSTART;TZID=Europe/Paris:20250305T090000
DTEND;TZID=Europe/Paris:20250305T120000
DTSTAMP:20260423T101904
CREATED:20250107T065556Z
LAST-MODIFIED:20250107T102935Z
UID:5416-1741165200-1741176000@ltd.univ-amu.fr
SUMMARY:Séminaire "Méthodologie de la recherche"_Pr J-Y Chérot_9h-12h_Salle 0.29
DESCRIPTION:
URL:https://ltd.univ-amu.fr/event/seminaire-methodologie-de-la-recherche_pr-j-y-cherot_9h-12h_salle/
CATEGORIES:Agenda
END:VEVENT
BEGIN:VEVENT
DTSTART;TZID=Europe/Paris:20250306T100000
DTEND;TZID=Europe/Paris:20250306T120000
DTSTAMP:20260423T101904
CREATED:20250220T100307Z
LAST-MODIFIED:20250220T100307Z
UID:5442-1741255200-1741262400@ltd.univ-amu.fr
SUMMARY:Sciences sociales et droit_MCF V.Fourment_10h00-12h00_ salle Poncet 14
DESCRIPTION:
URL:https://ltd.univ-amu.fr/event/sciences-sociales-et-droit_mcf-v-fourment_10h00-12h00_-salle-poncet-14/
CATEGORIES:Agenda
END:VEVENT
BEGIN:VEVENT
DTSTART;TZID=Europe/Paris:20250311T140000
DTEND;TZID=Europe/Paris:20250311T160000
DTSTAMP:20260423T101904
CREATED:20250203T135121Z
LAST-MODIFIED:20250203T135121Z
UID:5435-1741701600-1741708800@ltd.univ-amu.fr
SUMMARY:Ecriture du mémoire_ Pr Frédéric Rouvière_ 14h-16h_ salle 102
DESCRIPTION:
URL:https://ltd.univ-amu.fr/event/ecriture-du-memoire_-pr-frederic-rouviere_-14h-16h_-salle-102/
CATEGORIES:Agenda
END:VEVENT
BEGIN:VEVENT
DTSTART;TZID=Europe/Paris:20250313T103000
DTEND;TZID=Europe/Paris:20250313T130000
DTSTAMP:20260423T101904
CREATED:20241127T133422Z
LAST-MODIFIED:20250303T144254Z
UID:5383-1741861800-1741870800@ltd.univ-amu.fr
SUMMARY:Sciences sociales et droit - Pr. R. Ponsard - 10h30-13h - salle poncet 9
DESCRIPTION:
URL:https://ltd.univ-amu.fr/event/sciences-sociales-et-droit-pr-r-ponsard-15h-18h-salle/
CATEGORIES:Agenda
END:VEVENT
BEGIN:VEVENT
DTSTART;TZID=Europe/Paris:20250313T140000
DTEND;TZID=Europe/Paris:20250313T170000
DTSTAMP:20260423T101904
CREATED:20250220T100453Z
LAST-MODIFIED:20250225T092227Z
UID:5446-1741874400-1741885200@ltd.univ-amu.fr
SUMMARY:Sciences sociales et droit_MCF V.Fourment_14h00-16h00_ salle 105
DESCRIPTION:
URL:https://ltd.univ-amu.fr/event/sciences-sociales-et-droit_mcf-v-fourment_14h00-16h00_-salle-105/
CATEGORIES:Agenda
END:VEVENT
BEGIN:VEVENT
DTSTART;TZID=Europe/Paris:20250314T090000
DTEND;TZID=Europe/Paris:20250314T130000
DTSTAMP:20260423T101904
CREATED:20241127T133358Z
LAST-MODIFIED:20250303T144304Z
UID:5381-1741942800-1741957200@ltd.univ-amu.fr
SUMMARY:Sciences sociales et droit - Pr. R. Ponsard - 09h/13h - salle 0.25
DESCRIPTION:
URL:https://ltd.univ-amu.fr/event/sciences-sociales-et-droit-pr-r-ponsard-09h-13h-salle/
CATEGORIES:Agenda
END:VEVENT
BEGIN:VEVENT
DTSTART;TZID=Europe/Paris:20250314T143000
DTEND;TZID=Europe/Paris:20250314T180000
DTSTAMP:20260423T101904
CREATED:20241127T133332Z
LAST-MODIFIED:20250303T144314Z
UID:5379-1741962600-1741975200@ltd.univ-amu.fr
SUMMARY:Sciences sociales et droit - Pr. R. Ponsard - 14h30/18h - salle 0.25
DESCRIPTION:
URL:https://ltd.univ-amu.fr/event/sciences-sociales-et-droit-pr-r-ponsard-17h-20h-salle/
CATEGORIES:Agenda
END:VEVENT
BEGIN:VEVENT
DTSTART;TZID=Europe/Paris:20250321T100000
DTEND;TZID=Europe/Paris:20250321T130000
DTSTAMP:20260423T101904
CREATED:20250220T100412Z
LAST-MODIFIED:20250304T135239Z
UID:5444-1742551200-1742562000@ltd.univ-amu.fr
SUMMARY:Sciences sociales et droit_MCF V.Fourment_10h00-13h00_ salle amphi favoreu
DESCRIPTION:
URL:https://ltd.univ-amu.fr/event/sciences-sociales-et-droit_mcf-v-fourment_14h00-17h00_-salle-fabre-4/
CATEGORIES:Agenda
END:VEVENT
END:VCALENDAR