BEGIN:VCALENDAR
VERSION:2.0
PRODID:-//Laboratoire de théorie du droit - ECPv6.15.17//NONSGML v1.0//EN
CALSCALE:GREGORIAN
METHOD:PUBLISH
X-ORIGINAL-URL:https://ltd.univ-amu.fr
X-WR-CALDESC:Évènements pour Laboratoire de théorie du droit
REFRESH-INTERVAL;VALUE=DURATION:PT1H
X-Robots-Tag:noindex
X-PUBLISHED-TTL:PT1H
BEGIN:VTIMEZONE
TZID:Europe/Paris
BEGIN:DAYLIGHT
TZOFFSETFROM:+0100
TZOFFSETTO:+0200
TZNAME:CEST
DTSTART:20230326T010000
END:DAYLIGHT
BEGIN:STANDARD
TZOFFSETFROM:+0200
TZOFFSETTO:+0100
TZNAME:CET
DTSTART:20231029T010000
END:STANDARD
BEGIN:DAYLIGHT
TZOFFSETFROM:+0100
TZOFFSETTO:+0200
TZNAME:CEST
DTSTART:20240331T010000
END:DAYLIGHT
BEGIN:STANDARD
TZOFFSETFROM:+0200
TZOFFSETTO:+0100
TZNAME:CET
DTSTART:20241027T010000
END:STANDARD
BEGIN:DAYLIGHT
TZOFFSETFROM:+0100
TZOFFSETTO:+0200
TZNAME:CEST
DTSTART:20250330T010000
END:DAYLIGHT
BEGIN:STANDARD
TZOFFSETFROM:+0200
TZOFFSETTO:+0100
TZNAME:CET
DTSTART:20251026T010000
END:STANDARD
END:VTIMEZONE
BEGIN:VEVENT
DTSTART;TZID=Europe/Paris:20241105T140000
DTEND;TZID=Europe/Paris:20241105T160000
DTSTAMP:20260423T190713
CREATED:20240709T082434Z
LAST-MODIFIED:20240902T065257Z
UID:4959-1730815200-1730822400@ltd.univ-amu.fr
SUMMARY:Ontologie du droit_Pr F.Rouvière_14h00-16h00_ Salle 1.03
DESCRIPTION:
URL:https://ltd.univ-amu.fr/event/ontologie-du-droit_pr-f-rouviere_14h00-16h00_-salle-6/
CATEGORIES:Agenda
END:VEVENT
BEGIN:VEVENT
DTSTART;TZID=Europe/Paris:20241105T163000
DTEND;TZID=Europe/Paris:20241105T183000
DTSTAMP:20260423T190713
CREATED:20240904T073356Z
LAST-MODIFIED:20240904T073356Z
UID:5160-1730824200-1730831400@ltd.univ-amu.fr
SUMMARY:Philosophie politique et juridique-MCF M. Cottereau_ 16h30-18h30_ Salle 0.29
DESCRIPTION:
URL:https://ltd.univ-amu.fr/event/philosophie-politique-et-juridique-mcf-m-cottereau_-16h30-18h30_-salle-0-29/
CATEGORIES:Agenda
END:VEVENT
BEGIN:VEVENT
DTSTART;TZID=Europe/Paris:20241107T140000
DTEND;TZID=Europe/Paris:20241107T160000
DTSTAMP:20260423T190713
CREATED:20240828T092318Z
LAST-MODIFIED:20241017T121743Z
UID:5011-1730988000-1730995200@ltd.univ-amu.fr
SUMMARY:Philosophie analytique du droit-MCF V.Réveillère_ 14h-16h_Salle M5 (Montperrin)
DESCRIPTION:
URL:https://ltd.univ-amu.fr/event/philosophie-analytique-du-droit-mcf-v-reveillere_-14h-16h_-salle-5/
CATEGORIES:Agenda
END:VEVENT
BEGIN:VEVENT
DTSTART;TZID=Europe/Paris:20241112T090000
DTEND;TZID=Europe/Paris:20241112T120000
DTSTAMP:20260423T190713
CREATED:20240902T092615Z
LAST-MODIFIED:20241113T091250Z
UID:5125-1731402000-1731412800@ltd.univ-amu.fr
SUMMARY:Philosophie politique et juridique_Pr X.Magnon_ 9h-12h_Salle 1.03
DESCRIPTION:
URL:https://ltd.univ-amu.fr/event/philosophie-politique-et-juridique_pr-x-magnon_-9h-12h_salle-3/
CATEGORIES:Agenda
END:VEVENT
BEGIN:VEVENT
DTSTART;TZID=Europe/Paris:20241112T140000
DTEND;TZID=Europe/Paris:20241112T160000
DTSTAMP:20260423T190713
CREATED:20240709T082502Z
LAST-MODIFIED:20240902T065303Z
UID:4961-1731420000-1731427200@ltd.univ-amu.fr
SUMMARY:Ontologie du droit_Pr F.Rouvière_14h00-16h00_ Salle 1.03
DESCRIPTION:
URL:https://ltd.univ-amu.fr/event/ontologie-du-droit_pr-f-rouviere_14h00-16h00_-salle-7/
CATEGORIES:Agenda
END:VEVENT
BEGIN:VEVENT
DTSTART;TZID=Europe/Paris:20241113T140000
DTEND;TZID=Europe/Paris:20241113T160000
DTSTAMP:20260423T190713
CREATED:20240828T075122Z
LAST-MODIFIED:20241104T142437Z
UID:4995-1731506400-1731513600@ltd.univ-amu.fr
SUMMARY:Techniques et stratégies argumentatives_MCF F. Haid_14h-16h_ Salle PONCET 7
DESCRIPTION:
URL:https://ltd.univ-amu.fr/event/techniques-et-strategies-argumentatives_mcf-f-haid_14h-16h_-salle-5/
CATEGORIES:Agenda
END:VEVENT
BEGIN:VEVENT
DTSTART;TZID=Europe/Paris:20241114T140000
DTEND;TZID=Europe/Paris:20241114T160000
DTSTAMP:20260423T190713
CREATED:20240828T092407Z
LAST-MODIFIED:20240902T082559Z
UID:5015-1731592800-1731600000@ltd.univ-amu.fr
SUMMARY:Philosophie analytique du droit-MCF V.Réveillère_ 14h-16h_ Salle Fabre3
DESCRIPTION:
URL:https://ltd.univ-amu.fr/event/philosophie-analytique-du-droit-mcf-v-reveillere_-14h-16h_-salle-7/
CATEGORIES:Agenda
END:VEVENT
BEGIN:VEVENT
DTSTART;TZID=Europe/Paris:20241118T140000
DTEND;TZID=Europe/Paris:20241118T160000
DTSTAMP:20260423T190713
CREATED:20240828T075150Z
LAST-MODIFIED:20240902T070118Z
UID:4997-1731938400-1731945600@ltd.univ-amu.fr
SUMMARY:Techniques et stratégies argumentatives_MCF F. Haid_14h-16h_ Salle 0.28
DESCRIPTION:
URL:https://ltd.univ-amu.fr/event/techniques-et-strategies-argumentatives_mcf-f-haid_14h-16h_-salle-6/
CATEGORIES:Agenda
END:VEVENT
BEGIN:VEVENT
DTSTART;TZID=Europe/Paris:20241119T140000
DTEND;TZID=Europe/Paris:20241119T160000
DTSTAMP:20260423T190713
CREATED:20240709T082523Z
LAST-MODIFIED:20240902T065310Z
UID:4963-1732024800-1732032000@ltd.univ-amu.fr
SUMMARY:Ontologie du droit_Pr F.Rouvière_14h00-16h00_ Salle 1.03
DESCRIPTION:
URL:https://ltd.univ-amu.fr/event/ontologie-du-droit_pr-f-rouviere_14h00-16h00_-salle-8/
CATEGORIES:Agenda
END:VEVENT
BEGIN:VEVENT
DTSTART;TZID=Europe/Paris:20241121T140000
DTEND;TZID=Europe/Paris:20241121T160000
DTSTAMP:20260423T190713
CREATED:20240828T092432Z
LAST-MODIFIED:20240902T082608Z
UID:5017-1732197600-1732204800@ltd.univ-amu.fr
SUMMARY:Philosophie analytique du droit-MCF V.Réveillère_ 14h-16h_ Salle Fabre 3
DESCRIPTION:
URL:https://ltd.univ-amu.fr/event/philosophie-analytique-du-droit-mcf-v-reveillere_-14h-16h_-salle-8/
CATEGORIES:Agenda
END:VEVENT
BEGIN:VEVENT
DTSTART;TZID=Europe/Paris:20241122T133000
DTEND;TZID=Europe/Paris:20241122T173000
DTSTAMP:20260423T190713
CREATED:20241003T125532Z
LAST-MODIFIED:20241104T074649Z
UID:5230-1732282200-1732296600@ltd.univ-amu.fr
SUMMARY:Épistémologie - MCF A. Ferracci _ 13h30-17h30_ Amphi Mirabeau
DESCRIPTION:
URL:https://ltd.univ-amu.fr/event/epistemologie-mcf-a-ferracci-_-13h30-17h30_-salle/
CATEGORIES:Agenda
END:VEVENT
BEGIN:VEVENT
DTSTART;TZID=Europe/Paris:20241125T140000
DTEND;TZID=Europe/Paris:20241125T160000
DTSTAMP:20260423T190713
CREATED:20240828T075218Z
LAST-MODIFIED:20240904T073950Z
UID:4999-1732543200-1732550400@ltd.univ-amu.fr
SUMMARY:Techniques et stratégies argumentatives_MCF F. Haid_14h-16h_ Salle 1.12
DESCRIPTION:
URL:https://ltd.univ-amu.fr/event/techniques-et-strategies-argumentatives_mcf-f-haid_14h-16h_-salle-7/
CATEGORIES:Agenda
END:VEVENT
BEGIN:VEVENT
DTSTART;TZID=Europe/Paris:20241125T160000
DTEND;TZID=Europe/Paris:20241125T190000
DTSTAMP:20260423T190713
CREATED:20241113T091318Z
LAST-MODIFIED:20241114T081407Z
UID:5340-1732550400-1732561200@ltd.univ-amu.fr
SUMMARY:Philosophie politique et juridique_Pr X.Magnon_ 16h-19h_Salle 1.12
DESCRIPTION:
URL:https://ltd.univ-amu.fr/event/philosophie-politique-et-juridique_pr-x-magnon_-16h-19h_salle/
CATEGORIES:Agenda
END:VEVENT
BEGIN:VEVENT
DTSTART;TZID=Europe/Paris:20241126T140000
DTEND;TZID=Europe/Paris:20241126T160000
DTSTAMP:20260423T190713
CREATED:20240709T082701Z
LAST-MODIFIED:20241125T110522Z
UID:4965-1732629600-1732636800@ltd.univ-amu.fr
SUMMARY:Dissertation\, synthèse et culture d'un monde contemporain_Pr F.Rouvière_14h00-16h00_ ANNULÉ/ À REPORTER
DESCRIPTION:
URL:https://ltd.univ-amu.fr/event/dissertation-synthese-et-culture-dun-monde-contemporain_pr-f-rouviere_14h00-16h00_-salle/
CATEGORIES:Agenda
END:VEVENT
BEGIN:VEVENT
DTSTART;VALUE=DATE:20241128
DTEND;VALUE=DATE:20241130
DTSTAMP:20260423T190713
CREATED:20241113T080103Z
LAST-MODIFIED:20241113T080256Z
UID:5328-1732752000-1732924799@ltd.univ-amu.fr
SUMMARY:Colloque "L'assimilation juridique" organisé par le LTD les 28 & 29 novembre en salle de conseil n°1
DESCRIPTION:
URL:https://ltd.univ-amu.fr/event/colloque-lassimilation-juridique-organise-par-le-ltd-les-28-29-novembre-en-salle-de-conseil-n1/
CATEGORIES:Agenda
ATTACH;FMTTYPE=image/jpeg:https://ltd.univ-amu.fr/wordpress/wp-content/uploads/2024/11/PROGRAMME_Lassimilation-juridique_page-0001.jpg
END:VEVENT
BEGIN:VEVENT
DTSTART;TZID=Europe/Paris:20241129T140000
DTEND;TZID=Europe/Paris:20241129T160000
DTSTAMP:20260423T190713
CREATED:20240828T092456Z
LAST-MODIFIED:20241119T135357Z
UID:5019-1732888800-1732896000@ltd.univ-amu.fr
SUMMARY:Philosophie analytique du droit-MCF V.Réveillère_ 14h-16h_ Salle 1.03 mp
DESCRIPTION:
URL:https://ltd.univ-amu.fr/event/philosophie-analytique-du-droit-mcf-v-reveillere_-14h-16h_-salle-9/
CATEGORIES:Agenda
END:VEVENT
END:VCALENDAR