BEGIN:VCALENDAR
VERSION:2.0
PRODID:-//Laboratoire de théorie du droit - ECPv6.15.17//NONSGML v1.0//EN
CALSCALE:GREGORIAN
METHOD:PUBLISH
X-ORIGINAL-URL:https://ltd.univ-amu.fr
X-WR-CALDESC:Évènements pour Laboratoire de théorie du droit
REFRESH-INTERVAL;VALUE=DURATION:PT1H
X-Robots-Tag:noindex
X-PUBLISHED-TTL:PT1H
BEGIN:VTIMEZONE
TZID:Europe/Paris
BEGIN:DAYLIGHT
TZOFFSETFROM:+0100
TZOFFSETTO:+0200
TZNAME:CEST
DTSTART:20230326T010000
END:DAYLIGHT
BEGIN:STANDARD
TZOFFSETFROM:+0200
TZOFFSETTO:+0100
TZNAME:CET
DTSTART:20231029T010000
END:STANDARD
BEGIN:DAYLIGHT
TZOFFSETFROM:+0100
TZOFFSETTO:+0200
TZNAME:CEST
DTSTART:20240331T010000
END:DAYLIGHT
BEGIN:STANDARD
TZOFFSETFROM:+0200
TZOFFSETTO:+0100
TZNAME:CET
DTSTART:20241027T010000
END:STANDARD
BEGIN:DAYLIGHT
TZOFFSETFROM:+0100
TZOFFSETTO:+0200
TZNAME:CEST
DTSTART:20250330T010000
END:DAYLIGHT
BEGIN:STANDARD
TZOFFSETFROM:+0200
TZOFFSETTO:+0100
TZNAME:CET
DTSTART:20251026T010000
END:STANDARD
END:VTIMEZONE
BEGIN:VEVENT
DTSTART;TZID=Europe/Paris:20241001T140000
DTEND;TZID=Europe/Paris:20241001T160000
DTSTAMP:20260423T204521
CREATED:20240709T082256Z
LAST-MODIFIED:20240902T065211Z
UID:4951-1727791200-1727798400@ltd.univ-amu.fr
SUMMARY:Ontologie du droit_Pr F.Rouvière_14h00-16h00_ Salle 1.03
DESCRIPTION:
URL:https://ltd.univ-amu.fr/event/ontologie-du-droit_pr-f-rouviere_14h00-16h00_-salle-2/
CATEGORIES:Agenda
END:VEVENT
BEGIN:VEVENT
DTSTART;TZID=Europe/Paris:20241001T163000
DTEND;TZID=Europe/Paris:20241001T193000
DTSTAMP:20260423T204521
CREATED:20240904T064843Z
LAST-MODIFIED:20240904T064843Z
UID:5151-1727800200-1727811000@ltd.univ-amu.fr
SUMMARY:Théories et philosophies du droit_MCF M. Cottereau_16h30-19h30_Salle 0.28
DESCRIPTION:
URL:https://ltd.univ-amu.fr/event/theories-et-philosophies-du-droit_mcf-m-cottereau_16h30-19h30_salle-0-28-4/
CATEGORIES:Agenda
END:VEVENT
BEGIN:VEVENT
DTSTART;TZID=Europe/Paris:20241002T140000
DTEND;TZID=Europe/Paris:20241002T170000
DTSTAMP:20260423T204521
CREATED:20240703T073737Z
LAST-MODIFIED:20240902T065436Z
UID:4895-1727877600-1727888400@ltd.univ-amu.fr
SUMMARY:Sociologie de la connaissance juridique- MCF O.Tholozan _ 14h00-17h00_Salle 1.12
DESCRIPTION:
URL:https://ltd.univ-amu.fr/event/sociologie-de-la-connaissance-juridique-mcf-o-tholozan-_-14h00-17h00_salle-5/
CATEGORIES:Agenda
END:VEVENT
BEGIN:VEVENT
DTSTART;TZID=Europe/Paris:20241003T140000
DTEND;TZID=Europe/Paris:20241003T160000
DTSTAMP:20260423T204521
CREATED:20240828T091728Z
LAST-MODIFIED:20240902T082457Z
UID:5009-1727964000-1727971200@ltd.univ-amu.fr
SUMMARY:Philosophie analytique du droit-MCF V.Réveillère_ 14h-16h_ Salle Fabre 3
DESCRIPTION:
URL:https://ltd.univ-amu.fr/event/philosophie-analytique-du-droit-mcf-v-reveillere_-14h-16h_-salle-4/
CATEGORIES:Agenda
END:VEVENT
BEGIN:VEVENT
DTSTART;TZID=Europe/Paris:20241004T140000
DTEND;TZID=Europe/Paris:20241004T160000
DTSTAMP:20260423T204521
CREATED:20240828T074949Z
LAST-MODIFIED:20240902T070015Z
UID:4989-1728050400-1728057600@ltd.univ-amu.fr
SUMMARY:Techniques et stratégies argumentatives_MCF F. Haid_14h-16h_ Salle 1.12
DESCRIPTION:
URL:https://ltd.univ-amu.fr/event/techniques-et-strategies-argumentatives_mcf-f-haid_14h-16h_-salle-3/
CATEGORIES:Agenda
END:VEVENT
BEGIN:VEVENT
DTSTART;TZID=Europe/Paris:20241008T140000
DTEND;TZID=Europe/Paris:20241008T160000
DTSTAMP:20260423T204521
CREATED:20240709T082318Z
LAST-MODIFIED:20240902T065222Z
UID:4953-1728396000-1728403200@ltd.univ-amu.fr
SUMMARY:Ontologie du droit_Pr F.Rouvière_14h00-16h00_ Salle 1.03
DESCRIPTION:
URL:https://ltd.univ-amu.fr/event/ontologie-du-droit_pr-f-rouviere_14h00-16h00_-salle-3/
CATEGORIES:Agenda
END:VEVENT
BEGIN:VEVENT
DTSTART;TZID=Europe/Paris:20241008T163000
DTEND;TZID=Europe/Paris:20241008T193000
DTSTAMP:20260423T204521
CREATED:20240904T064902Z
LAST-MODIFIED:20240904T064902Z
UID:5153-1728405000-1728415800@ltd.univ-amu.fr
SUMMARY:Théories et philosophies du droit_MCF M. Cottereau_16h30-19h30_Salle 0.28
DESCRIPTION:
URL:https://ltd.univ-amu.fr/event/theories-et-philosophies-du-droit_mcf-m-cottereau_16h30-19h30_salle-0-28-5/
CATEGORIES:Agenda
END:VEVENT
BEGIN:VEVENT
DTSTART;TZID=Europe/Paris:20241009T140000
DTEND;TZID=Europe/Paris:20241009T170000
DTSTAMP:20260423T204521
CREATED:20240703T073756Z
LAST-MODIFIED:20240902T065445Z
UID:4897-1728482400-1728493200@ltd.univ-amu.fr
SUMMARY:Sociologie de la connaissance juridique- MCF O.Tholozan _ 14h00-17h00_Salle 1.12
DESCRIPTION:
URL:https://ltd.univ-amu.fr/event/sociologie-de-la-connaissance-juridique-mcf-o-tholozan-_-14h00-17h00_salle-6/
CATEGORIES:Agenda
END:VEVENT
BEGIN:VEVENT
DTSTART;TZID=Europe/Paris:20241010T133000
DTEND;TZID=Europe/Paris:20241010T163000
DTSTAMP:20260423T204521
CREATED:20240902T075637Z
LAST-MODIFIED:20240902T083555Z
UID:5094-1728567000-1728577800@ltd.univ-amu.fr
SUMMARY:Épistémologie - MCF A. Ferracci _ 13h30-16h30_ Salle Poncet 11
DESCRIPTION:
URL:https://ltd.univ-amu.fr/event/epistemologie-mcf-a-ferracci-_-13h30-16h30_-salle-4/
CATEGORIES:Agenda
END:VEVENT
BEGIN:VEVENT
DTSTART;TZID=Europe/Paris:20241015T140000
DTEND;TZID=Europe/Paris:20241015T160000
DTSTAMP:20260423T204521
CREATED:20240709T082340Z
LAST-MODIFIED:20240902T065231Z
UID:4955-1729000800-1729008000@ltd.univ-amu.fr
SUMMARY:Ontologie du droit_Pr F.Rouvière_14h00-16h00_ Salle 1.03
DESCRIPTION:
URL:https://ltd.univ-amu.fr/event/ontologie-du-droit_pr-f-rouviere_14h00-16h00_-salle-4/
CATEGORIES:Agenda
END:VEVENT
BEGIN:VEVENT
DTSTART;TZID=Europe/Paris:20241015T163000
DTEND;TZID=Europe/Paris:20241015T193000
DTSTAMP:20260423T204521
CREATED:20240904T064926Z
LAST-MODIFIED:20240904T064926Z
UID:5155-1729009800-1729020600@ltd.univ-amu.fr
SUMMARY:Théories et philosophies du droit_MCF M. Cottereau_16h30-19h30_Salle 0.28
DESCRIPTION:
URL:https://ltd.univ-amu.fr/event/theories-et-philosophies-du-droit_mcf-m-cottereau_16h30-19h30_salle-0-28-6/
CATEGORIES:Agenda
END:VEVENT
BEGIN:VEVENT
DTSTART;TZID=Europe/Paris:20241016T140000
DTEND;TZID=Europe/Paris:20241016T170000
DTSTAMP:20260423T204521
CREATED:20240703T073819Z
LAST-MODIFIED:20240904T073850Z
UID:4899-1729087200-1729098000@ltd.univ-amu.fr
SUMMARY:Sociologie de la connaissance juridique- MCF O.Tholozan _ 14h00-16h00_Salle 1.12
DESCRIPTION:
URL:https://ltd.univ-amu.fr/event/sociologie-de-la-connaissance-juridique-mcf-o-tholozan-_-14h00-17h00_salle-7/
CATEGORIES:Agenda
END:VEVENT
BEGIN:VEVENT
DTSTART;TZID=Europe/Paris:20241021T100000
DTEND;TZID=Europe/Paris:20241021T120000
DTSTAMP:20260423T204521
CREATED:20240902T092523Z
LAST-MODIFIED:20240902T094116Z
UID:5121-1729504800-1729512000@ltd.univ-amu.fr
SUMMARY:Philosophie politique et juridique_Pr X.Magnon_ 10h-12h_Salle 0.30
DESCRIPTION:
URL:https://ltd.univ-amu.fr/event/philosophie-politique-et-juridique_pr-x-magnon_-9h-12h_salle/
CATEGORIES:Agenda
END:VEVENT
BEGIN:VEVENT
DTSTART;TZID=Europe/Paris:20241022T140000
DTEND;TZID=Europe/Paris:20241022T160000
DTSTAMP:20260423T204521
CREATED:20240709T082405Z
LAST-MODIFIED:20240902T065238Z
UID:4957-1729605600-1729612800@ltd.univ-amu.fr
SUMMARY:Ontologie du droit_Pr F.Rouvière_14h00-16h00_ Salle 1.03
DESCRIPTION:
URL:https://ltd.univ-amu.fr/event/ontologie-du-droit_pr-f-rouviere_14h00-16h00_-salle-5/
CATEGORIES:Agenda
END:VEVENT
BEGIN:VEVENT
DTSTART;TZID=Europe/Paris:20241022T163000
DTEND;TZID=Europe/Paris:20241022T183000
DTSTAMP:20260423T204521
CREATED:20240904T064957Z
LAST-MODIFIED:20240904T064957Z
UID:5157-1729614600-1729621800@ltd.univ-amu.fr
SUMMARY:Théories et philosophies du droit_MCF M. Cottereau_16h30-18h30_Salle 0.28
DESCRIPTION:
URL:https://ltd.univ-amu.fr/event/theories-et-philosophies-du-droit_mcf-m-cottereau_16h30-18h30_salle-0-28/
CATEGORIES:Agenda
END:VEVENT
BEGIN:VEVENT
DTSTART;TZID=Europe/Paris:20241023T140000
DTEND;TZID=Europe/Paris:20241023T160000
DTSTAMP:20260423T204521
CREATED:20240703T074326Z
LAST-MODIFIED:20240904T073822Z
UID:4902-1729692000-1729699200@ltd.univ-amu.fr
SUMMARY:Philosophie politique et juridique- MCF O.Tholozan_14h-16h_ Salle 0.36
DESCRIPTION:
URL:https://ltd.univ-amu.fr/event/philosophie-politique-et-juridique-mcf-o-tholozan_14h-16h_-salle/
CATEGORIES:Agenda
END:VEVENT
BEGIN:VEVENT
DTSTART;TZID=Europe/Paris:20241024T150000
DTEND;TZID=Europe/Paris:20241024T170000
DTSTAMP:20260423T204521
CREATED:20240828T075053Z
LAST-MODIFIED:20240902T070042Z
UID:4993-1729782000-1729789200@ltd.univ-amu.fr
SUMMARY:Techniques et stratégies argumentatives_MCF F. Haid_15h-17h_ Salle 1.12
DESCRIPTION:
URL:https://ltd.univ-amu.fr/event/techniques-et-strategies-argumentatives_mcf-f-haid_15h-17h_-salle/
CATEGORIES:Agenda
END:VEVENT
BEGIN:VEVENT
DTSTART;TZID=Europe/Paris:20241025T133000
DTEND;TZID=Europe/Paris:20241025T163000
DTSTAMP:20260423T204521
CREATED:20240902T083410Z
LAST-MODIFIED:20240902T083410Z
UID:5113-1729863000-1729873800@ltd.univ-amu.fr
SUMMARY:Épistémologie - MCF A. Ferracci _ 13h30-16h30_ Salle Poncet 11
DESCRIPTION:
URL:https://ltd.univ-amu.fr/event/epistemologie-mcf-a-ferracci-_-13h30-16h30_-salle-poncet-11/
CATEGORIES:Agenda
END:VEVENT
BEGIN:VEVENT
DTSTART;TZID=Europe/Paris:20241028T100000
DTEND;TZID=Europe/Paris:20241028T120000
DTSTAMP:20260423T204521
CREATED:20240902T092542Z
LAST-MODIFIED:20240902T094127Z
UID:5123-1730109600-1730116800@ltd.univ-amu.fr
SUMMARY:Philosophie politique et juridique_Pr X.Magnon_ 10h-12h_Salle 0.30
DESCRIPTION:
URL:https://ltd.univ-amu.fr/event/philosophie-politique-et-juridique_pr-x-magnon_-9h-12h_salle-2/
CATEGORIES:Agenda
END:VEVENT
BEGIN:VEVENT
DTSTART;TZID=Europe/Paris:20241031T140000
DTEND;TZID=Europe/Paris:20241031T160000
DTSTAMP:20260423T204521
CREATED:20240828T092339Z
LAST-MODIFIED:20240902T082533Z
UID:5013-1730383200-1730390400@ltd.univ-amu.fr
SUMMARY:Philosophie analytique du droit-MCF V.Réveillère_ 14h-16h_ Salle 0.27
DESCRIPTION:
URL:https://ltd.univ-amu.fr/event/philosophie-analytique-du-droit-mcf-v-reveillere_-14h-16h_-salle-6/
CATEGORIES:Agenda
END:VEVENT
END:VCALENDAR