BEGIN:VCALENDAR
VERSION:2.0
PRODID:-//Laboratoire de théorie du droit - ECPv6.15.17//NONSGML v1.0//EN
CALSCALE:GREGORIAN
METHOD:PUBLISH
X-WR-CALNAME:Laboratoire de théorie du droit
X-ORIGINAL-URL:https://ltd.univ-amu.fr
X-WR-CALDESC:Évènements pour Laboratoire de théorie du droit
REFRESH-INTERVAL;VALUE=DURATION:PT1H
X-Robots-Tag:noindex
X-PUBLISHED-TTL:PT1H
BEGIN:VTIMEZONE
TZID:Europe/Paris
BEGIN:DAYLIGHT
TZOFFSETFROM:+0100
TZOFFSETTO:+0200
TZNAME:CEST
DTSTART:20230326T010000
END:DAYLIGHT
BEGIN:STANDARD
TZOFFSETFROM:+0200
TZOFFSETTO:+0100
TZNAME:CET
DTSTART:20231029T010000
END:STANDARD
BEGIN:DAYLIGHT
TZOFFSETFROM:+0100
TZOFFSETTO:+0200
TZNAME:CEST
DTSTART:20240331T010000
END:DAYLIGHT
BEGIN:STANDARD
TZOFFSETFROM:+0200
TZOFFSETTO:+0100
TZNAME:CET
DTSTART:20241027T010000
END:STANDARD
BEGIN:DAYLIGHT
TZOFFSETFROM:+0100
TZOFFSETTO:+0200
TZNAME:CEST
DTSTART:20250330T010000
END:DAYLIGHT
BEGIN:STANDARD
TZOFFSETFROM:+0200
TZOFFSETTO:+0100
TZNAME:CET
DTSTART:20251026T010000
END:STANDARD
END:VTIMEZONE
BEGIN:VEVENT
DTSTART;TZID=Europe/Paris:20240606T170000
DTEND;TZID=Europe/Paris:20240606T190000
DTSTAMP:20260424T072408
CREATED:20240209T111538Z
LAST-MODIFIED:20240209T111735Z
UID:4225-1717693200-1717700400@ltd.univ-amu.fr
SUMMARY:🎓 Formations doctorales ED 67-METHODOLOGIE- La rédaction du plan de thèse _ M. Frédéric Rouvière\, PR AMU-17h-19h_Amphi Mirabeau
DESCRIPTION:
URL:https://ltd.univ-amu.fr/event/%f0%9f%8e%93-formations-doctorales-ed-67-methodologie-la-redaction-du-plan-de-these-_-m-frederic-rouviere-pr-amu-17h-19h_salle-fabre-5/
CATEGORIES:Agenda
END:VEVENT
BEGIN:VEVENT
DTSTART;TZID=Europe/Paris:20240613T170000
DTEND;TZID=Europe/Paris:20240613T190000
DTSTAMP:20260424T072408
CREATED:20240209T111705Z
LAST-MODIFIED:20240209T111705Z
UID:4227-1718298000-1718305200@ltd.univ-amu.fr
SUMMARY:🎓 Formations doctorales ED 67-METHODOLOGIE- Enjeux\, problèmes et problématiques de la thèse _ M. Frédéric Rouvière\, PR AMU-17h-19h_Salle 16
DESCRIPTION:
URL:https://ltd.univ-amu.fr/event/%f0%9f%8e%93-formations-doctorales-ed-67-methodologie-enjeux-problemes-et-problematiques-de-la-these-_-m-frederic-rouviere-pr-amu-17h-19h_salle-16/
CATEGORIES:Agenda
END:VEVENT
END:VCALENDAR