BEGIN:VCALENDAR
VERSION:2.0
PRODID:-//Laboratoire de théorie du droit - ECPv6.15.17//NONSGML v1.0//EN
CALSCALE:GREGORIAN
METHOD:PUBLISH
X-ORIGINAL-URL:https://ltd.univ-amu.fr
X-WR-CALDESC:Évènements pour Laboratoire de théorie du droit
REFRESH-INTERVAL;VALUE=DURATION:PT1H
X-Robots-Tag:noindex
X-PUBLISHED-TTL:PT1H
BEGIN:VTIMEZONE
TZID:Europe/Paris
BEGIN:DAYLIGHT
TZOFFSETFROM:+0100
TZOFFSETTO:+0200
TZNAME:CEST
DTSTART:20230326T010000
END:DAYLIGHT
BEGIN:STANDARD
TZOFFSETFROM:+0200
TZOFFSETTO:+0100
TZNAME:CET
DTSTART:20231029T010000
END:STANDARD
BEGIN:DAYLIGHT
TZOFFSETFROM:+0100
TZOFFSETTO:+0200
TZNAME:CEST
DTSTART:20240331T010000
END:DAYLIGHT
BEGIN:STANDARD
TZOFFSETFROM:+0200
TZOFFSETTO:+0100
TZNAME:CET
DTSTART:20241027T010000
END:STANDARD
BEGIN:DAYLIGHT
TZOFFSETFROM:+0100
TZOFFSETTO:+0200
TZNAME:CEST
DTSTART:20250330T010000
END:DAYLIGHT
BEGIN:STANDARD
TZOFFSETFROM:+0200
TZOFFSETTO:+0100
TZNAME:CET
DTSTART:20251026T010000
END:STANDARD
END:VTIMEZONE
BEGIN:VEVENT
DTSTART;TZID=Europe/Paris:20240304T140000
DTEND;TZID=Europe/Paris:20240304T170000
DTSTAMP:20260424T113925
CREATED:20240212T070739Z
LAST-MODIFIED:20240301T065357Z
UID:4236-1709560800-1709571600@ltd.univ-amu.fr
SUMMARY:🔎Théories et philosophies du droit-M. Cottereau\, MFC AMU_14h00-17h00_Salle Fabre 4
DESCRIPTION:
URL:https://ltd.univ-amu.fr/event/%f0%9f%94%8etheories-et-philosophies-du-droit-m-cottereau-mfc-amu_salle/
CATEGORIES:Agenda
END:VEVENT
BEGIN:VEVENT
DTSTART;TZID=Europe/Paris:20240305T140000
DTEND;TZID=Europe/Paris:20240305T160000
DTSTAMP:20260424T113925
CREATED:20240124T095404Z
LAST-MODIFIED:20240301T065405Z
UID:4185-1709647200-1709654400@ltd.univ-amu.fr
SUMMARY:🔎Théories et philosophies du droit-M. Cottereau\, MFC AMU_14h00-16h00_Salle Fabre 4
DESCRIPTION:
URL:https://ltd.univ-amu.fr/event/%f0%9f%94%8etheories-et-philosophies-du-droit-m-cottereau-mfc-amu_salle-1-12-3/
CATEGORIES:Agenda
END:VEVENT
BEGIN:VEVENT
DTSTART;TZID=Europe/Paris:20240306T100000
DTEND;TZID=Europe/Paris:20240306T120000
DTSTAMP:20260424T113925
CREATED:20240205T083838Z
LAST-MODIFIED:20240221T133037Z
UID:4192-1709719200-1709726400@ltd.univ-amu.fr
SUMMARY:📝 Méthodologie du mémoire_V.Reveillère\, MCF AMU_10h-12h_Salle 0.29
DESCRIPTION:
URL:https://ltd.univ-amu.fr/event/%f0%9f%93%9d-methodologie-du-memoire_v-reveillere-mcf-amu_10h-12h_salle/
CATEGORIES:Agenda
END:VEVENT
BEGIN:VEVENT
DTSTART;TZID=Europe/Paris:20240312T100000
DTEND;TZID=Europe/Paris:20240312T120000
DTSTAMP:20260424T113925
CREATED:20240221T111048Z
LAST-MODIFIED:20240221T132116Z
UID:4489-1710237600-1710244800@ltd.univ-amu.fr
SUMMARY:Séminaire du Pr A.Sériaux "Proposer\, imposer\, disposer: les trois opérations au fondement du droit"_ 10h-12h-Salle 0.29
DESCRIPTION:
URL:https://ltd.univ-amu.fr/event/seminaire-du-pr-a-seriaux-proposer-imposer-disposer-les-trois-operations-au-fondement-du-droit_-10h-12h-salle/
CATEGORIES:Agenda
END:VEVENT
BEGIN:VEVENT
DTSTART;TZID=Europe/Paris:20240312T140000
DTEND;TZID=Europe/Paris:20240312T160000
DTSTAMP:20260424T113925
CREATED:20240221T111116Z
LAST-MODIFIED:20240221T132126Z
UID:4491-1710252000-1710259200@ltd.univ-amu.fr
SUMMARY:Séminaire du Pr A.Sériaux "Proposer\, imposer\, disposer: les trois opérations au fondement du droit"_ 14h-16h-Salle 0.31
DESCRIPTION:
URL:https://ltd.univ-amu.fr/event/seminaire-du-pr-a-seriaux-proposer-imposer-disposer-les-trois-operations-au-fondement-du-droit_-14h-16h-salle/
CATEGORIES:Agenda
END:VEVENT
BEGIN:VEVENT
DTSTART;TZID=Europe/Paris:20240314T160000
DTEND;TZID=Europe/Paris:20240314T180000
DTSTAMP:20260424T113925
CREATED:20240206T072210Z
LAST-MODIFIED:20240216T150508Z
UID:4196-1710432000-1710439200@ltd.univ-amu.fr
SUMMARY:📝Préparation au mémoire_ O. Tholozan\, MCF AMU_ 16h-18h_ Salle 105
DESCRIPTION:
URL:https://ltd.univ-amu.fr/event/%f0%9f%93%9dpreparation-au-memoire_-o-tholozan-mcf-amu_-10h-12h_-salle/
CATEGORIES:Agenda
END:VEVENT
BEGIN:VEVENT
DTSTART;TZID=Europe/Paris:20240314T170000
DTEND;TZID=Europe/Paris:20240314T190000
DTSTAMP:20260424T113925
CREATED:20240209T110242Z
LAST-MODIFIED:20240209T110548Z
UID:4200-1710435600-1710442800@ltd.univ-amu.fr
SUMMARY:🎓 Formations doctorales ED 67-EPISTEMOLOGIE 1- Concepts Fondamentaux _ M. Frédéric Rouvière\, PR AMU-17h-19h_Salle Fabre 5
DESCRIPTION:
URL:https://ltd.univ-amu.fr/event/%f0%9f%8e%93-formations-doctorales-ed-67-_-m-frederic-rouviere-pr-amu-17h-19h_salle-fabre-5/
CATEGORIES:Agenda
END:VEVENT
BEGIN:VEVENT
DTSTART;TZID=Europe/Paris:20240319T100000
DTEND;TZID=Europe/Paris:20240319T120000
DTSTAMP:20260424T113925
CREATED:20240311T105437Z
LAST-MODIFIED:20240311T105437Z
UID:4749-1710842400-1710849600@ltd.univ-amu.fr
SUMMARY:Séminaire Pr Benoit FRYDMAN\, "La logique juridique à l'âge de l'intelligence artificielle"\, 10h-12h_Salle 105
DESCRIPTION:
URL:https://ltd.univ-amu.fr/event/seminaire-pr-benoit-frydman-la-logique-juridique-a-lage-de-lintelligence-artificielle-10h-12h_salle-105/
CATEGORIES:Agenda
END:VEVENT
BEGIN:VEVENT
DTSTART;TZID=Europe/Paris:20240320T100000
DTEND;TZID=Europe/Paris:20240320T130000
DTSTAMP:20260424T113925
CREATED:20240212T090606Z
LAST-MODIFIED:20240311T094836Z
UID:4241-1710928800-1710939600@ltd.univ-amu.fr
SUMMARY:Projet tutoré Global Law- J-Y. Chérot\, PR AMU_ 10h-13h_ Salle 102
DESCRIPTION:
URL:https://ltd.univ-amu.fr/event/projet-tutore-global-law-j-y-cherot-pr-amu_-10h-13h_-salle-0-28/
CATEGORIES:Agenda
END:VEVENT
BEGIN:VEVENT
DTSTART;TZID=Europe/Paris:20240321T170000
DTEND;TZID=Europe/Paris:20240321T190000
DTSTAMP:20260424T113925
CREATED:20240209T110307Z
LAST-MODIFIED:20240209T110556Z
UID:4202-1711040400-1711047600@ltd.univ-amu.fr
SUMMARY:🎓 Formations doctorales ED 67-EPISTEMOLOGIE 1- Concepts Fondamentaux _ M. Frédéric Rouvière\, PR AMU-17h-19h_Salle Fabre 5
DESCRIPTION:
URL:https://ltd.univ-amu.fr/event/%f0%9f%8e%93-formations-doctorales-ed-67-_-m-frederic-rouviere-pr-amu-17h-19h_salle-fabre-5-2/
CATEGORIES:Agenda
END:VEVENT
BEGIN:VEVENT
DTSTART;TZID=Europe/Paris:20240326T140000
DTEND;TZID=Europe/Paris:20240326T170000
DTSTAMP:20260424T113925
CREATED:20240311T085246Z
LAST-MODIFIED:20240311T091230Z
UID:4746-1711461600-1711472400@ltd.univ-amu.fr
SUMMARY:Oral pour M.Magnon "Philosophie politique et juridique"\, passage et préparation à l'ILF à partir de 14h15
DESCRIPTION:
URL:https://ltd.univ-amu.fr/event/oral-pour-m-magnon-philosophie-politique-et-juridique-passage-et-preparation-a-lilf-a-partir-de-14h15/
CATEGORIES:Agenda
END:VEVENT
BEGIN:VEVENT
DTSTART;TZID=Europe/Paris:20240327T100000
DTEND;TZID=Europe/Paris:20240327T130000
DTSTAMP:20260424T113925
CREATED:20240212T090643Z
LAST-MODIFIED:20240212T090643Z
UID:4243-1711533600-1711544400@ltd.univ-amu.fr
SUMMARY:Projet tutoré Global Law- J-Y. Chérot\, PR AMU_ 10h-13h_ Salle 0.28
DESCRIPTION:
URL:https://ltd.univ-amu.fr/event/projet-tutore-global-law-j-y-cherot-pr-amu_-10h-13h_-salle-0-28-2/
CATEGORIES:Agenda
END:VEVENT
BEGIN:VEVENT
DTSTART;TZID=Europe/Paris:20240328T170000
DTEND;TZID=Europe/Paris:20240328T190000
DTSTAMP:20260424T113925
CREATED:20240209T110340Z
LAST-MODIFIED:20240209T110603Z
UID:4204-1711645200-1711652400@ltd.univ-amu.fr
SUMMARY:🎓 Formations doctorales ED 67-EPISTEMOLOGIE 1- Concepts Fondamentaux _ M. Frédéric Rouvière\, PR AMU-17h-19h_Salle Fabre 5
DESCRIPTION:
URL:https://ltd.univ-amu.fr/event/%f0%9f%8e%93-formations-doctorales-ed-67-_-m-frederic-rouviere-pr-amu-17h-19h_salle-fabre-5-3/
CATEGORIES:Agenda
END:VEVENT
BEGIN:VEVENT
DTSTART;TZID=Europe/Paris:20240329T160000
DTEND;TZID=Europe/Paris:20240329T180000
DTSTAMP:20260424T113925
CREATED:20240311T142039Z
LAST-MODIFIED:20240311T142039Z
UID:4751-1711728000-1711735200@ltd.univ-amu.fr
SUMMARY:📖 Présentation ouvrage " Hans Kelsen\, Religion Séculière" traduction et postface par le Pr François Lecoutre\, Université d'Orléans _16h-18h_Salle 0.29
DESCRIPTION:Religion Séculière
URL:https://ltd.univ-amu.fr/event/%f0%9f%93%96-presentation-ouvrage-hans-kelsen-religion-seculiere-traduction-et-postface-par-le-pr-francois-lecoutre-universite-dorleans-_16h-18h_salle-0-29/
CATEGORIES:Agenda
END:VEVENT
END:VCALENDAR