BEGIN:VCALENDAR
VERSION:2.0
PRODID:-//Laboratoire de théorie du droit - ECPv6.15.17//NONSGML v1.0//EN
CALSCALE:GREGORIAN
METHOD:PUBLISH
X-ORIGINAL-URL:https://ltd.univ-amu.fr
X-WR-CALDESC:Évènements pour Laboratoire de théorie du droit
REFRESH-INTERVAL;VALUE=DURATION:PT1H
X-Robots-Tag:noindex
X-PUBLISHED-TTL:PT1H
BEGIN:VTIMEZONE
TZID:Europe/Paris
BEGIN:DAYLIGHT
TZOFFSETFROM:+0100
TZOFFSETTO:+0200
TZNAME:CEST
DTSTART:20220327T010000
END:DAYLIGHT
BEGIN:STANDARD
TZOFFSETFROM:+0200
TZOFFSETTO:+0100
TZNAME:CET
DTSTART:20221030T010000
END:STANDARD
BEGIN:DAYLIGHT
TZOFFSETFROM:+0100
TZOFFSETTO:+0200
TZNAME:CEST
DTSTART:20230326T010000
END:DAYLIGHT
BEGIN:STANDARD
TZOFFSETFROM:+0200
TZOFFSETTO:+0100
TZNAME:CET
DTSTART:20231029T010000
END:STANDARD
BEGIN:DAYLIGHT
TZOFFSETFROM:+0100
TZOFFSETTO:+0200
TZNAME:CEST
DTSTART:20240331T010000
END:DAYLIGHT
BEGIN:STANDARD
TZOFFSETFROM:+0200
TZOFFSETTO:+0100
TZNAME:CET
DTSTART:20241027T010000
END:STANDARD
BEGIN:DAYLIGHT
TZOFFSETFROM:+0100
TZOFFSETTO:+0200
TZNAME:CEST
DTSTART:20250330T010000
END:DAYLIGHT
BEGIN:STANDARD
TZOFFSETFROM:+0200
TZOFFSETTO:+0100
TZNAME:CET
DTSTART:20251026T010000
END:STANDARD
END:VTIMEZONE
BEGIN:VEVENT
DTSTART;TZID=Europe/Paris:20231223T080000
DTEND;TZID=Europe/Paris:20240107T170000
DTSTAMP:20260424T151858
CREATED:20230829T075840Z
LAST-MODIFIED:20230829T075840Z
UID:3787-1703318400-1704646800@ltd.univ-amu.fr
SUMMARY:VACANCES  DE NOËL
DESCRIPTION:
URL:https://ltd.univ-amu.fr/event/vacances-de-noel/
CATEGORIES:Agenda
END:VEVENT
BEGIN:VEVENT
DTSTART;TZID=Europe/Paris:20240108T100000
DTEND;TZID=Europe/Paris:20240108T120000
DTSTAMP:20260424T151858
CREATED:20230615T065749Z
LAST-MODIFIED:20231212T151702Z
UID:3669-1704708000-1704715200@ltd.univ-amu.fr
SUMMARY:📓 Méthodologie\, argumentation et interprétation- S. Goltzberg\, PR ULB_ 10h - 12h_ Salle Fabre 4
DESCRIPTION:
URL:https://ltd.univ-amu.fr/event/%f0%9f%93%93-methodologie-argumentation-et-interpretation-s-goltzberg-pr-ulb_-10h-12h_-salle/
CATEGORIES:Agenda
END:VEVENT
BEGIN:VEVENT
DTSTART;TZID=Europe/Paris:20240108T140000
DTEND;TZID=Europe/Paris:20240108T160000
DTSTAMP:20260424T151858
CREATED:20230615T070204Z
LAST-MODIFIED:20231212T151710Z
UID:3675-1704722400-1704729600@ltd.univ-amu.fr
SUMMARY:📓 Méthodologie\, argumentation et interprétation- S. Goltzberg\, PR ULB_ 14h - 16h_ Salle Fabre 4
DESCRIPTION:
URL:https://ltd.univ-amu.fr/event/%f0%9f%93%93-methodologie-argumentation-et-interpretation-s-goltzberg-pr-ulb_-14h-16h_-salle/
CATEGORIES:Agenda
END:VEVENT
BEGIN:VEVENT
DTSTART;TZID=Europe/Paris:20240109T100000
DTEND;TZID=Europe/Paris:20240109T120000
DTSTAMP:20260424T151858
CREATED:20230615T065822Z
LAST-MODIFIED:20240109T084631Z
UID:3671-1704794400-1704801600@ltd.univ-amu.fr
SUMMARY:📓 Méthodologie\, argumentation et interprétation- S. Goltzberg\, PR ULB_ 10h - 12h_ Salle Fabre 107
DESCRIPTION:
URL:https://ltd.univ-amu.fr/event/%f0%9f%93%93-methodologie-argumentation-et-interpretation-s-goltzberg-pr-ulb_-10h-12h_-salle-2/
CATEGORIES:Agenda
END:VEVENT
BEGIN:VEVENT
DTSTART;TZID=Europe/Paris:20240109T140000
DTEND;TZID=Europe/Paris:20240109T160000
DTSTAMP:20260424T151858
CREATED:20230615T072616Z
LAST-MODIFIED:20240109T084620Z
UID:3677-1704808800-1704816000@ltd.univ-amu.fr
SUMMARY:📓 Méthodologie\, argumentation et interprétation- S. Goltzberg\, PR ULB_ 14h - 16h_ Salle 102
DESCRIPTION:
URL:https://ltd.univ-amu.fr/event/%f0%9f%93%93-methodologie-argumentation-et-interpretation-s-goltzberg-pr-ulb_-14h-16h_-salle-2/
CATEGORIES:Agenda
END:VEVENT
BEGIN:VEVENT
DTSTART;TZID=Europe/Paris:20240110T100000
DTEND;TZID=Europe/Paris:20240110T120000
DTSTAMP:20260424T151858
CREATED:20230615T065854Z
LAST-MODIFIED:20240110T073341Z
UID:3673-1704880800-1704888000@ltd.univ-amu.fr
SUMMARY:📓 Méthodologie\, argumentation et interprétation- S. Goltzberg\, PR ULB_ 10h - 12h_ Salle Poncet 9
DESCRIPTION:
URL:https://ltd.univ-amu.fr/event/%f0%9f%93%93-methodologie-argumentation-et-interpretation-s-goltzberg-pr-ulb_-10h-12h_-salle-3/
CATEGORIES:Agenda
END:VEVENT
BEGIN:VEVENT
DTSTART;TZID=Europe/Paris:20240111T110000
DTEND;TZID=Europe/Paris:20240111T130000
DTSTAMP:20260424T151858
CREATED:20231207T094704Z
LAST-MODIFIED:20240111T073650Z
UID:4091-1704970800-1704978000@ltd.univ-amu.fr
SUMMARY:📒 Méthodologie du grand oral- V. Réveillère\, MCF AMU_ 10h - 13h_ Bibliothèque du LTD
DESCRIPTION:
URL:https://ltd.univ-amu.fr/event/%f0%9f%93%92-methodologie-du-grand-oral-v-reveillere-mcf-amu_-11h-13h_-salle-107/
CATEGORIES:Agenda
END:VEVENT
BEGIN:VEVENT
DTSTART;TZID=Europe/Paris:20240111T140000
DTEND;TZID=Europe/Paris:20240111T160000
DTSTAMP:20260424T151858
CREATED:20230829T072940Z
LAST-MODIFIED:20240111T073702Z
UID:3772-1704981600-1704988800@ltd.univ-amu.fr
SUMMARY:📗 Dissertation\, synthèse et culture du monde contemporain - F.Rouvière\, PR AMU_ 14h - 16h_bibliothèque du LTD
DESCRIPTION:
URL:https://ltd.univ-amu.fr/event/%f0%9f%93%97-dissertation-synthese-et-culture-du-monde-contemporain-f-rouviere-pr-amu_-14h-16h_-salle-5/
CATEGORIES:Agenda
END:VEVENT
BEGIN:VEVENT
DTSTART;TZID=Europe/Paris:20240112T090000
DTEND;TZID=Europe/Paris:20240112T110000
DTSTAMP:20260424T151858
CREATED:20230615T122810Z
LAST-MODIFIED:20231204T134601Z
UID:3699-1705050000-1705057200@ltd.univ-amu.fr
SUMMARY:📘 Philosophie politique et juridique - C. Lemaitre\, MCF AMU_ 9h - 11h_Salle 0.25
DESCRIPTION:
URL:https://ltd.univ-amu.fr/event/%f0%9f%93%98-philosophie-politique-et-juridique-c-lemaitre-mcf-amu_-13h-15h_-salle-4/
CATEGORIES:Agenda
END:VEVENT
BEGIN:VEVENT
DTSTART;TZID=Europe/Paris:20240118T140000
DTEND;TZID=Europe/Paris:20240118T160000
DTSTAMP:20260424T151858
CREATED:20230829T073030Z
LAST-MODIFIED:20240118T105039Z
UID:3774-1705586400-1705593600@ltd.univ-amu.fr
SUMMARY:📗 Dissertation\, synthèse et culture du monde contemporain - F.Rouvière\, PR AMU_ 14h - 16h_ Bibliothèque du LTD
DESCRIPTION:
URL:https://ltd.univ-amu.fr/event/%f0%9f%93%97-dissertation-synthese-et-culture-du-monde-contemporain-f-rouviere-pr-amu_-14h-16h_-salle-fabre-2/
CATEGORIES:Agenda
END:VEVENT
BEGIN:VEVENT
DTSTART;TZID=Europe/Paris:20240118T170000
DTEND;TZID=Europe/Paris:20240118T200000
DTSTAMP:20260424T151858
CREATED:20231123T140916Z
LAST-MODIFIED:20240112T092332Z
UID:4057-1705597200-1705608000@ltd.univ-amu.fr
SUMMARY:📍Droit et Sciences Sociales- M. Régis Ponsard_ 17h-20h_ Salle 1.12
DESCRIPTION:
URL:https://ltd.univ-amu.fr/event/%f0%9f%93%8ddroit-et-sciences-sociales-m-regis-ponsard_-9h-13h_-salle/
CATEGORIES:Agenda
END:VEVENT
BEGIN:VEVENT
DTSTART;TZID=Europe/Paris:20240119T090000
DTEND;TZID=Europe/Paris:20240119T130000
DTSTAMP:20260424T151858
CREATED:20231123T140747Z
LAST-MODIFIED:20240112T092343Z
UID:4055-1705654800-1705669200@ltd.univ-amu.fr
SUMMARY:📍Droit et Sciences Sociales- M. Régis Ponsard_ 9h-13h_ Salle 1.12
DESCRIPTION:
URL:https://ltd.univ-amu.fr/event/%f0%9f%93%8ddroit-et-sciences-sociales-m-regis-ponsard_-17h-20h_-salle/
CATEGORIES:Agenda
END:VEVENT
BEGIN:VEVENT
DTSTART;TZID=Europe/Paris:20240119T150000
DTEND;TZID=Europe/Paris:20240119T180000
DTSTAMP:20260424T151858
CREATED:20231123T141225Z
LAST-MODIFIED:20240112T092353Z
UID:4061-1705676400-1705687200@ltd.univ-amu.fr
SUMMARY:📍Droit et Sciences Sociales- M. Régis Ponsard_ 15h-18h_ Salle 1.12
DESCRIPTION:
URL:https://ltd.univ-amu.fr/event/%f0%9f%93%8ddroit-et-sciences-sociales-m-regis-ponsard_-15h-18h_-salle/
CATEGORIES:Agenda
END:VEVENT
BEGIN:VEVENT
DTSTART;TZID=Europe/Paris:20240122T130000
DTEND;TZID=Europe/Paris:20240122T180000
DTSTAMP:20260424T151858
CREATED:20231123T141455Z
LAST-MODIFIED:20231207T095343Z
UID:4063-1705928400-1705946400@ltd.univ-amu.fr
SUMMARY:🖊️ GRAND ECRIT_ 13h-18h_Salle 0.27
DESCRIPTION:
URL:https://ltd.univ-amu.fr/event/%f0%9f%96%8a%ef%b8%8f-grand-ecrit_-13h-18h_salle/
CATEGORIES:Agenda
END:VEVENT
BEGIN:VEVENT
DTSTART;TZID=Europe/Paris:20240123T090000
DTEND;TZID=Europe/Paris:20240123T120000
DTSTAMP:20260424T151858
CREATED:20231207T093826Z
LAST-MODIFIED:20240118T105656Z
UID:4077-1706000400-1706011200@ltd.univ-amu.fr
SUMMARY:🔖 Sciences sociales et droit_ W. Azoulay_ Enseignant vacataire AMU_9h-12h_ REPORTÉ
DESCRIPTION:
URL:https://ltd.univ-amu.fr/event/%f0%9f%94%96-sciences-sociales-et-droit_-w-azoulay_-enseignant-vacataire-amu_9h-12h_-salle/
CATEGORIES:Agenda
END:VEVENT
BEGIN:VEVENT
DTSTART;TZID=Europe/Paris:20240123T130000
DTEND;TZID=Europe/Paris:20240123T150000
DTSTAMP:20260424T151858
CREATED:20231207T093929Z
LAST-MODIFIED:20240118T105708Z
UID:4081-1706014800-1706022000@ltd.univ-amu.fr
SUMMARY:🔖 Sciences sociales et droit_ W. Azoulay_ Enseignant vacataire AMU_13h-15h_ REPORTÉ
DESCRIPTION:
URL:https://ltd.univ-amu.fr/event/%f0%9f%94%96-sciences-sociales-et-droit_-w-azoulay_-enseignant-vacataire-amu_13h-15h_-salle/
CATEGORIES:Agenda
END:VEVENT
BEGIN:VEVENT
DTSTART;TZID=Europe/Paris:20240124T090000
DTEND;TZID=Europe/Paris:20240124T120000
DTSTAMP:20260424T151858
CREATED:20231207T093851Z
LAST-MODIFIED:20240118T105718Z
UID:4079-1706086800-1706097600@ltd.univ-amu.fr
SUMMARY:🔖 Sciences sociales et droit_ W. Azoulay_ Enseignant vacataire AMU_9h-12h_ REPORTÉ
DESCRIPTION:
URL:https://ltd.univ-amu.fr/event/%f0%9f%94%96-sciences-sociales-et-droit_-w-azoulay_-enseignant-vacataire-amu_9h-12h_-salle-2/
CATEGORIES:Agenda
END:VEVENT
BEGIN:VEVENT
DTSTART;TZID=Europe/Paris:20240124T130000
DTEND;TZID=Europe/Paris:20240124T150000
DTSTAMP:20260424T151858
CREATED:20231207T093958Z
LAST-MODIFIED:20240118T105730Z
UID:4083-1706101200-1706108400@ltd.univ-amu.fr
SUMMARY:🔖 Sciences sociales et droit_ W. Azoulay_ Enseignant vacataire AMU_13h-15h_ REPORTÉ
DESCRIPTION:
URL:https://ltd.univ-amu.fr/event/%f0%9f%94%96-sciences-sociales-et-droit_-w-azoulay_-enseignant-vacataire-amu_13h-15h_-salle-2/
CATEGORIES:Agenda
END:VEVENT
BEGIN:VEVENT
DTSTART;TZID=Europe/Paris:20240125T140000
DTEND;TZID=Europe/Paris:20240125T160000
DTSTAMP:20260424T151858
CREATED:20230616T084729Z
LAST-MODIFIED:20231207T101959Z
UID:3739-1706191200-1706198400@ltd.univ-amu.fr
SUMMARY:📗 Dissertation\, synthèse et culture du monde contemporain - F.Rouvière\, PR AMU_ 14h - 16h_ Salle Fabre 2
DESCRIPTION:
URL:https://ltd.univ-amu.fr/event/%f0%9f%93%97-dissertation-synthese-et-culture-du-monde-contemporain-f-rouviere-pr-amu_-14h-16h_-salle-3/
CATEGORIES:Agenda
END:VEVENT
END:VCALENDAR