BEGIN:VCALENDAR
VERSION:2.0
PRODID:-//Laboratoire de théorie du droit - ECPv6.15.17//NONSGML v1.0//EN
CALSCALE:GREGORIAN
METHOD:PUBLISH
X-ORIGINAL-URL:https://ltd.univ-amu.fr
X-WR-CALDESC:Évènements pour Laboratoire de théorie du droit
REFRESH-INTERVAL;VALUE=DURATION:PT1H
X-Robots-Tag:noindex
X-PUBLISHED-TTL:PT1H
BEGIN:VTIMEZONE
TZID:Europe/Paris
BEGIN:DAYLIGHT
TZOFFSETFROM:+0100
TZOFFSETTO:+0200
TZNAME:CEST
DTSTART:20220327T010000
END:DAYLIGHT
BEGIN:STANDARD
TZOFFSETFROM:+0200
TZOFFSETTO:+0100
TZNAME:CET
DTSTART:20221030T010000
END:STANDARD
BEGIN:DAYLIGHT
TZOFFSETFROM:+0100
TZOFFSETTO:+0200
TZNAME:CEST
DTSTART:20230326T010000
END:DAYLIGHT
BEGIN:STANDARD
TZOFFSETFROM:+0200
TZOFFSETTO:+0100
TZNAME:CET
DTSTART:20231029T010000
END:STANDARD
BEGIN:DAYLIGHT
TZOFFSETFROM:+0100
TZOFFSETTO:+0200
TZNAME:CEST
DTSTART:20240331T010000
END:DAYLIGHT
BEGIN:STANDARD
TZOFFSETFROM:+0200
TZOFFSETTO:+0100
TZNAME:CET
DTSTART:20241027T010000
END:STANDARD
END:VTIMEZONE
BEGIN:VEVENT
DTSTART;VALUE=DATE:20231029
DTEND;VALUE=DATE:20231106
DTSTAMP:20260424T175459
CREATED:20230616T083040Z
LAST-MODIFIED:20230616T083040Z
UID:3711-1698537600-1699228799@ltd.univ-amu.fr
SUMMARY:VACANCES TOUSSAINT
DESCRIPTION:
URL:https://ltd.univ-amu.fr/event/vacances-toussaint/
CATEGORIES:Agenda,Congés
END:VEVENT
BEGIN:VEVENT
DTSTART;TZID=Europe/Paris:20231106T140000
DTEND;TZID=Europe/Paris:20231106T160000
DTSTAMP:20260424T175459
CREATED:20230614T132935Z
LAST-MODIFIED:20230901T070306Z
UID:3665-1699279200-1699286400@ltd.univ-amu.fr
SUMMARY:📚 Philosophie analytique du droit- V. Reveillère\, MCF AMU_ 14h - 16h_ Salle Fabre 4
DESCRIPTION:
URL:https://ltd.univ-amu.fr/event/%f0%9f%93%9a-philosophie-analytique-du-droit-v-reveillere-mcf-amu_-14h-16h_-salle-9/
CATEGORIES:Agenda
END:VEVENT
BEGIN:VEVENT
DTSTART;TZID=Europe/Paris:20231107T140000
DTEND;TZID=Europe/Paris:20231107T160000
DTSTAMP:20260424T175459
CREATED:20230621T085711Z
LAST-MODIFIED:20230901T123722Z
UID:3756-1699365600-1699372800@ltd.univ-amu.fr
SUMMARY:📕 Langage et droit- F. Haid\, MCF AMU_ 14h - 16h_ Salle 0.29
DESCRIPTION:
URL:https://ltd.univ-amu.fr/event/%f0%9f%93%95-langage-et-droit-f-haid-mcf-amu_-14h-16h_-salle-7/
CATEGORIES:Agenda
END:VEVENT
BEGIN:VEVENT
DTSTART;TZID=Europe/Paris:20231109T140000
DTEND;TZID=Europe/Paris:20231109T160000
DTSTAMP:20260424T175459
CREATED:20230616T084451Z
LAST-MODIFIED:20230901T122836Z
UID:3731-1699538400-1699545600@ltd.univ-amu.fr
SUMMARY:📗 Ontologie du droit - F.Rouvière\, PR AMU_ 14h - 16h_ Salle Fabre 2
DESCRIPTION:
URL:https://ltd.univ-amu.fr/event/%f0%9f%93%97-ontologie-du-droit-f-rouviere-pr-amu_-14h-16h_-salle-9/
CATEGORIES:Agenda
END:VEVENT
BEGIN:VEVENT
DTSTART;TZID=Europe/Paris:20231109T160000
DTEND;TZID=Europe/Paris:20231109T190000
DTSTAMP:20260424T175459
CREATED:20230616T083620Z
LAST-MODIFIED:20230901T123510Z
UID:3713-1699545600-1699556400@ltd.univ-amu.fr
SUMMARY:📒 Ecriture du mémoire - O.Tholozan\, MCF AMU_ 16h - 19h_ Salle 0.29
DESCRIPTION:
URL:https://ltd.univ-amu.fr/event/%f0%9f%93%92-ecriture-du-memoire-o-tholozan-mcf-amu_-16h-19h_-salle/
CATEGORIES:Agenda
END:VEVENT
BEGIN:VEVENT
DTSTART;TZID=Europe/Paris:20231110T130000
DTEND;TZID=Europe/Paris:20231110T150000
DTSTAMP:20260424T175459
CREATED:20230830T123656Z
LAST-MODIFIED:20230901T123217Z
UID:3817-1699621200-1699628400@ltd.univ-amu.fr
SUMMARY:📒 Méthodologie du grand oral-A. Ferracci\, MCF AMU_13h-15h_ Salle 0.29
DESCRIPTION:
URL:https://ltd.univ-amu.fr/event/%f0%9f%93%92-methodologie-du-grand-oral-a-ferracci-mcf-amu_13h-15h_-salle/
CATEGORIES:Agenda
END:VEVENT
BEGIN:VEVENT
DTSTART;TZID=Europe/Paris:20231113T140000
DTEND;TZID=Europe/Paris:20231113T160000
DTSTAMP:20260424T175459
CREATED:20230614T133008Z
LAST-MODIFIED:20230901T070315Z
UID:3667-1699884000-1699891200@ltd.univ-amu.fr
SUMMARY:📚 Philosophie analytique du droit- V. Reveillère\, MCF AMU_ 14h - 16h_ Salle Fabre 4
DESCRIPTION:
URL:https://ltd.univ-amu.fr/event/%f0%9f%93%9a-philosophie-analytique-du-droit-v-reveillere-mcf-amu_-14h-16h_-salle-10/
CATEGORIES:Agenda
END:VEVENT
BEGIN:VEVENT
DTSTART;TZID=Europe/Paris:20231114T090000
DTEND;TZID=Europe/Paris:20231114T120000
DTSTAMP:20260424T175459
CREATED:20230831T064313Z
LAST-MODIFIED:20230901T123938Z
UID:3825-1699952400-1699963200@ltd.univ-amu.fr
SUMMARY:📘 Philosophie politique et juridique- X. Magnon\, PR AMU_ 9h - 12h_ Salle 0.36
DESCRIPTION:
URL:https://ltd.univ-amu.fr/event/%f0%9f%93%98-philosophie-politique-et-juridique-x-magnon-pr-amu_-9h-12h_-salle-3/
CATEGORIES:Agenda
END:VEVENT
BEGIN:VEVENT
DTSTART;TZID=Europe/Paris:20231116T140000
DTEND;TZID=Europe/Paris:20231116T160000
DTSTAMP:20260424T175459
CREATED:20230616T084521Z
LAST-MODIFIED:20231116T115606Z
UID:3733-1700143200-1700150400@ltd.univ-amu.fr
SUMMARY:📗 Ontologie du droit - F.Rouvière\, PR AMU_ 14h - 16h_ BIBLIO LTD
DESCRIPTION:
URL:https://ltd.univ-amu.fr/event/%f0%9f%93%97-ontologie-du-droit-f-rouviere-pr-amu_-14h-16h_-salle-10/
CATEGORIES:Agenda
END:VEVENT
BEGIN:VEVENT
DTSTART;TZID=Europe/Paris:20231116T160000
DTEND;TZID=Europe/Paris:20231116T180000
DTSTAMP:20260424T175459
CREATED:20230615T073446Z
LAST-MODIFIED:20231009T080011Z
UID:3691-1700150400-1700157600@ltd.univ-amu.fr
SUMMARY:📒 Sociologie de la connaissance juridique- O. Tholozan\, MFC AMU_ 16h - 18h_ Salle 0.25
DESCRIPTION:
URL:https://ltd.univ-amu.fr/event/%f0%9f%93%92-sociologie-de-la-connaissance-juridique-o-tholozan-mfc-amu_-16h-18h_-salle/
CATEGORIES:Agenda
END:VEVENT
BEGIN:VEVENT
DTSTART;TZID=Europe/Paris:20231120T140000
DTEND;TZID=Europe/Paris:20231120T160000
DTSTAMP:20260424T175459
CREATED:20230616T082736Z
LAST-MODIFIED:20230901T070329Z
UID:3707-1700488800-1700496000@ltd.univ-amu.fr
SUMMARY:📚 Philosophie analytique du droit- V. Reveillère\, MCF AMU_ 14h - 16h_ Salle Fabre 4
DESCRIPTION:
URL:https://ltd.univ-amu.fr/event/%f0%9f%93%9a-philosophie-analytique-du-droit-v-reveillere-mcf-amu_-14h-16h_-salle-11/
CATEGORIES:Agenda
END:VEVENT
BEGIN:VEVENT
DTSTART;TZID=Europe/Paris:20231121T090000
DTEND;TZID=Europe/Paris:20231121T110000
DTSTAMP:20260424T175459
CREATED:20230615T122841Z
LAST-MODIFIED:20231113T082644Z
UID:3701-1700557200-1700564400@ltd.univ-amu.fr
SUMMARY:📘 Philosophie politique et juridique - C. Lemaitre\, MCF AMU_ 9h - 11h_ Salle M 15
DESCRIPTION:
URL:https://ltd.univ-amu.fr/event/%f0%9f%93%98-philosophie-politique-et-juridique-c-lemaitre-mcf-amu_-13h-15h_-salle-5/
CATEGORIES:Agenda
END:VEVENT
BEGIN:VEVENT
DTSTART;TZID=Europe/Paris:20231121T140000
DTEND;TZID=Europe/Paris:20231121T160000
DTSTAMP:20260424T175459
CREATED:20230621T085812Z
LAST-MODIFIED:20230901T123751Z
UID:3760-1700575200-1700582400@ltd.univ-amu.fr
SUMMARY:📕 Langage et droit- F. Haid\, MCF AMU_ 14h - 16h_ Salle 0.26
DESCRIPTION:
URL:https://ltd.univ-amu.fr/event/%f0%9f%93%95-langage-et-droit-f-haid-mcf-amu_-14h-16h_-salle-9/
CATEGORIES:Agenda
END:VEVENT
BEGIN:VEVENT
DTSTART;TZID=Europe/Paris:20231122T090000
DTEND;TZID=Europe/Paris:20231122T120000
DTSTAMP:20260424T175459
CREATED:20230831T064212Z
LAST-MODIFIED:20231003T075235Z
UID:3821-1700643600-1700654400@ltd.univ-amu.fr
SUMMARY:📘 Philosophie politique et juridique- X. Magnon\, PR AMU_ 9h - 12h_ Salle ISPEC 1
DESCRIPTION:
URL:https://ltd.univ-amu.fr/event/%f0%9f%93%98-philosophie-politique-et-juridique-x-magnon-pr-amu_-9h-12h_-salle-2/
CATEGORIES:Agenda
END:VEVENT
BEGIN:VEVENT
DTSTART;TZID=Europe/Paris:20231123T100000
DTEND;TZID=Europe/Paris:20231123T120000
DTSTAMP:20260424T175459
CREATED:20230615T122510Z
LAST-MODIFIED:20231120T134807Z
UID:3693-1700733600-1700740800@ltd.univ-amu.fr
SUMMARY:📘 Philosophie politique et juridique - C. Lemaitre\, MCF AMU_ 10h - 12h_Salle 0.36
DESCRIPTION:
URL:https://ltd.univ-amu.fr/event/%f0%9f%93%98-philosophie-politique-et-juridique-c-lemaitre-mcf-amu_-13h-15h_-salle/
CATEGORIES:Agenda
END:VEVENT
BEGIN:VEVENT
DTSTART;TZID=Europe/Paris:20231123T140000
DTEND;TZID=Europe/Paris:20231123T160000
DTSTAMP:20260424T175459
CREATED:20230616T084638Z
LAST-MODIFIED:20230901T122905Z
UID:3735-1700748000-1700755200@ltd.univ-amu.fr
SUMMARY:📗 Ontologie du droit - F.Rouvière\, PR AMU_ 14h - 16h_ Salle 0.27
DESCRIPTION:
URL:https://ltd.univ-amu.fr/event/%f0%9f%93%97-dissertation-synthese-et-culture-du-monde-contemporain-f-rouviere-pr-amu_-14h-16h_-salle/
CATEGORIES:Agenda
END:VEVENT
BEGIN:VEVENT
DTSTART;TZID=Europe/Paris:20231127T110000
DTEND;TZID=Europe/Paris:20231127T130000
DTSTAMP:20260424T175459
CREATED:20230904T081016Z
LAST-MODIFIED:20231207T094629Z
UID:3890-1701082800-1701090000@ltd.univ-amu.fr
SUMMARY:📒 Méthodologie du grand oral- V. Réveillère\, MCF AMU_ 11h - 13h_ Salle-REPORTE
DESCRIPTION:
URL:https://ltd.univ-amu.fr/event/%f0%9f%93%92-ecriture-du-memoire-v-reveillere-mcf-amu_-11h-13h_-salle-0-27/
CATEGORIES:Agenda
END:VEVENT
BEGIN:VEVENT
DTSTART;TZID=Europe/Paris:20231129T100000
DTEND;TZID=Europe/Paris:20231129T120000
DTSTAMP:20260424T175459
CREATED:20230830T122453Z
LAST-MODIFIED:20230830T122837Z
UID:3794-1701252000-1701259200@ltd.univ-amu.fr
SUMMARY:🔗 Série de Conférences " L'anthropologie et la justice en Chine"\, Pr N. Rouland_ 10h-12h_ salle bibliothèque LTD
DESCRIPTION:
URL:https://ltd.univ-amu.fr/event/%f0%9f%94%97-serie-de-conferences-pr-n-rouland_-10h-12h_-salle-bibliotheque-ltd/
CATEGORIES:Agenda
END:VEVENT
BEGIN:VEVENT
DTSTART;TZID=Europe/Paris:20231129T130000
DTEND;TZID=Europe/Paris:20231129T150000
DTSTAMP:20260424T175459
CREATED:20230614T132843Z
LAST-MODIFIED:20231121T084352Z
UID:3661-1701262800-1701270000@ltd.univ-amu.fr
SUMMARY:📚 Philosophie analytique du droit- V. Reveillère\, MCF AMU_ 13h - 15h_ Salle 1.02
DESCRIPTION:
URL:https://ltd.univ-amu.fr/event/%f0%9f%93%9a-philosophie-analytique-du-droit-v-reveillere-mcf-amu_-14h-16h_-salle-0-27/
CATEGORIES:Agenda
END:VEVENT
BEGIN:VEVENT
DTSTART;VALUE=DATE:20231130
DTEND;VALUE=DATE:20231202
DTSTAMP:20260424T175459
CREATED:20230614T130744Z
LAST-MODIFIED:20231124T090652Z
UID:3647-1701302400-1701475199@ltd.univ-amu.fr
SUMMARY:Colloque du LTD-Salle des Actes
DESCRIPTION:
URL:https://ltd.univ-amu.fr/event/colloque-du-ltd/
CATEGORIES:Agenda
END:VEVENT
END:VCALENDAR